BEGIN:VCALENDAR
VERSION:2.0
PRODID:http://www.gelsenkirchen.de
METHOD:PUBLISH
BEGIN:VTIMEZONE
TZID:Europe/Berlin
BEGIN:DAYLIGHT
TZOFFSETFROM:+0100
TZOFFSETTO:+0200
DTSTART:19810329T020000
RRULE:FREQ=YEARLY;BYMONTH=3;BYDAY=-1SU
TZNAME:CEST
END:DAYLIGHT
BEGIN:STANDARD
TZOFFSETFROM:+0200
TZOFFSETTO:+0100
DTSTART:19961027T030000
RRULE:FREQ=YEARLY;BYMONTH=10;BYDAY=-1SU
TZNAME:CET
END:STANDARD
END:VTIMEZONE
BEGIN:VEVENT
UID:95416
ORGANIZER;CN="Kunstkiosk" 
LOCATION:Kunstkiosk, Nordring 33, 45894 Gelsenkirchen-Buer
SUMMARY:Brigitte Vollenberg liest – Literatur und Malerei im Einklang
DESCRIPTION:Ebenso farbenfroh wie die Bilder der Ausstellung von Edith Otto (siehe Seite 43) sind die Geschichten der Gladbecker Autorin Brigitte Vollenberg. Sie spiegeln den Alltag in all seinen Facetten. Ihre Texte handeln von Bühnenauftritten, Kunstwerken und auch der Frage, warum ein Kühlschrank im Walde steht.
CLASS:PUBLIC
DTSTART;TZID=Europe/Berlin:20260517T150000
DTSTAMP:20060812T125900Z
END:VEVENT
END:VCALENDAR