BEGIN:VCALENDAR
VERSION:2.0
PRODID:http://www.gelsenkirchen.de
METHOD:PUBLISH
BEGIN:VTIMEZONE
TZID:Europe/Berlin
BEGIN:DAYLIGHT
TZOFFSETFROM:+0100
TZOFFSETTO:+0200
DTSTART:19810329T020000
RRULE:FREQ=YEARLY;BYMONTH=3;BYDAY=-1SU
TZNAME:CEST
END:DAYLIGHT
BEGIN:STANDARD
TZOFFSETFROM:+0200
TZOFFSETTO:+0100
DTSTART:19961027T030000
RRULE:FREQ=YEARLY;BYMONTH=10;BYDAY=-1SU
TZNAME:CET
END:STANDARD
END:VTIMEZONE
BEGIN:VEVENT
UID:95411
ORGANIZER;CN="Stadtteilbüro Bochumer Straße" :MAILTO:bochumerstrasse@gelsenkirchen.de
LOCATION:Spielplatz Carl-Mosterts-Park, Carl-Mosterts-Straße, 45886 Gelsenkirchen
SUMMARY:Nachbarschaftspicknick - Komm zum Carl
DESCRIPTION:Das Stadtteilbüro der Bochumer Straße lädt zum Nachbarschaftspicknick - Komm zum Carl ein.Das Picknick findet am Montag, 11.05.2026 zwischen 15 und 18 Uhr im Carl-Mosterts-Park in Gelsenkirchen-Ückendorf statt.Neben einem Eiswagen, Coffeebike, Kreativaktionen und diversen Speisen gibt es noch viel mehr zu entdecken.Kommt vorbei und genießt eine gemeinsamen Nachmittag in gemütlicher Stimmung.Das Team vom Stadtteilbüro Bochumer Straße freut sich auf euch.
CLASS:PUBLIC
DTSTART;TZID=Europe/Berlin:20260511T150000
DTEND;TZID=Europe/Berlin:20260511T180000
DTSTAMP:20060812T125900Z
END:VEVENT
END:VCALENDAR