BEGIN:VCALENDAR
VERSION:2.0
PRODID:http://www.gelsenkirchen.de
METHOD:PUBLISH
BEGIN:VTIMEZONE
TZID:Europe/Berlin
BEGIN:DAYLIGHT
TZOFFSETFROM:+0100
TZOFFSETTO:+0200
DTSTART:19810329T020000
RRULE:FREQ=YEARLY;BYMONTH=3;BYDAY=-1SU
TZNAME:CEST
END:DAYLIGHT
BEGIN:STANDARD
TZOFFSETFROM:+0200
TZOFFSETTO:+0100
DTSTART:19961027T030000
RRULE:FREQ=YEARLY;BYMONTH=10;BYDAY=-1SU
TZNAME:CET
END:STANDARD
END:VTIMEZONE
BEGIN:VEVENT
UID:95409
ORGANIZER;CN="Stadt Gelsenkirchen" 
LOCATION:Heilig Kreuz-Kirche, Bochumer Straße 115, 45886 Gelsenkirchen
SUMMARY:Heiraten in der Heilg-Kreuz-Kirche
DESCRIPTION:Am 16. Juli können sich Paare in der Heilig-Kreuz-Kirche trauen lassen. Die eindrucksvolle Architektur und das besondere Ambiente machen diesen Ort zu einem außergewöhnlichen Trauort im Stadtteil Ückendorf – und zu einem Highlight im Stadtumbaugebiet rund um die Bochumer Straße.An diesem Tag können mehrere Trauungen durchgeführt werden. Die Kombination aus historischem Kirchenraum und neuer Nutzung als Veranstaltungsort verleiht der standesamtlichen Trauung einen ganz besonderen Rahmen. Wer auf der Suche nach einem einzigartigen Ort für den großen Tag ist, sollte diesen Termin im Blick behalten. Die Anmeldung und Terminvergabe erfolgen über das Standesamt der Stadt Gelsenkirchen. Alle wichtigen Informationen zu Ablauf, Voraussetzungen und Kontaktmöglichkeiten sind auf der Internetseite der Stadt zu finden. Dort werden auch die neuen Termine für das nächste Jahr veröffentlicht 
CLASS:PUBLIC
DTSTART;TZID=Europe/Berlin:20260716
DTEND;TZID=Europe/Berlin:20260718
DTSTAMP:20060812T125900Z
END:VEVENT
END:VCALENDAR