BEGIN:VCALENDAR
VERSION:2.0
PRODID:http://www.gelsenkirchen.de
METHOD:PUBLISH
BEGIN:VTIMEZONE
TZID:Europe/Berlin
BEGIN:DAYLIGHT
TZOFFSETFROM:+0100
TZOFFSETTO:+0200
DTSTART:19810329T020000
RRULE:FREQ=YEARLY;BYMONTH=3;BYDAY=-1SU
TZNAME:CEST
END:DAYLIGHT
BEGIN:STANDARD
TZOFFSETFROM:+0200
TZOFFSETTO:+0100
DTSTART:19961027T030000
RRULE:FREQ=YEARLY;BYMONTH=10;BYDAY=-1SU
TZNAME:CET
END:STANDARD
END:VTIMEZONE
BEGIN:VEVENT
UID:95405
ORGANIZER;CN="Stadtbibliothek Gelsenkirchen" :MAILTO:stadtbibliothek@gelsenkirchen.de
LOCATION:Heilig Kreuz-Kirche, Bochumer Straße 115, 45886 Gelsenkirchen
SUMMARY:Klaus-Peter Wolf
DESCRIPTION:Klaus-Peter Wolf liest aus seinem neuen Roman „Sommerfeldt Solo – Der Auftrag“. Freuen Sie sich auf den Auftakt einer neuen Trilogie rund um Dr. Bernhard Sommerfeldt: Spannung, schwarzer Humor und ein raffinierter Kampf gegen das organisierte Verbrechen an der ostfriesischen Küste.Zusätzlich präsentiert der Autor seine neuen „Onkel-Warfsmann-Geschichten“ – mit einer besonderen Verbindung zu Gelsenkirchen: Onkel Warfsmann lebte hier einst als Bergmann, obwohl er eigentlich Seemann war.Ein Abend voller Spannung, Humor und besonderer Geschichten!Einlass ab 18 Uhr
CLASS:PUBLIC
DTSTART;TZID=Europe/Berlin:20261207T190000
DTEND;TZID=Europe/Berlin:20261207T210000
DTSTAMP:20060812T125900Z
END:VEVENT
END:VCALENDAR