BEGIN:VCALENDAR
VERSION:2.0
PRODID:http://www.gelsenkirchen.de
METHOD:PUBLISH
BEGIN:VTIMEZONE
TZID:Europe/Berlin
BEGIN:DAYLIGHT
TZOFFSETFROM:+0100
TZOFFSETTO:+0200
DTSTART:19810329T020000
RRULE:FREQ=YEARLY;BYMONTH=3;BYDAY=-1SU
TZNAME:CEST
END:DAYLIGHT
BEGIN:STANDARD
TZOFFSETFROM:+0200
TZOFFSETTO:+0100
DTSTART:19961027T030000
RRULE:FREQ=YEARLY;BYMONTH=10;BYDAY=-1SU
TZNAME:CET
END:STANDARD
END:VTIMEZONE
BEGIN:VEVENT
UID:95385
ORGANIZER;CN="Musiktheater im Revier Gelsenkirchen GmbH" 
LOCATION:Musiktheater im Revier (MiR) - Großes Haus, Kennedyplatz, 45881 Gelsenkirchen
SUMMARY:11Freunde - Saisonrückblick Gelsenkirchen
DESCRIPTION:Der legendäre 11FREUNDE Saisonrückblick macht erstmals Halt in Gelsenkirchen. Am 14.5. begrüßt 11FREUNDE-Chef Philipp Köster das Publikum im Musiktheater im Revier. Noch ist die Saison nicht beendet, aber wir wissen schon: Es wird viel zu besprechen geben – große Triumphe, bittere Pleiten, taktische Finessen, emotionale Ausbrüche und Geschichten, die nur der Fußball schreibt. Vielleicht gibt es sogar einen Aufstieg zu feiern. Beim Saisonrückblick nehmen Philipp Köster und seine prominenten Gäste die Saison genüsslich auseinander: pointiert, meinungsstark und mit dem gewohnt liebevollen Blick fürs Detail. Natürlich mit einem speziellen Fokus auf die Spielzeit des FC Schalke 04. Die Tickets kosten 30 EUR. Abonnenten von 11FREUNDE können den Rabattcode im Feld Aktionscode im Webshop einfügen. Sichert euch jetzt eure Plätze für diesen einzigartigen Fußballabend!Infos unter: 0209 / 4097 200
CLASS:PUBLIC
DTSTART;TZID=Europe/Berlin:20260514T200000
DTSTAMP:20060812T125900Z
END:VEVENT
END:VCALENDAR