BEGIN:VCALENDAR
VERSION:2.0
PRODID:http://www.gelsenkirchen.de
METHOD:PUBLISH
BEGIN:VTIMEZONE
TZID:Europe/Berlin
BEGIN:DAYLIGHT
TZOFFSETFROM:+0100
TZOFFSETTO:+0200
DTSTART:19810329T020000
RRULE:FREQ=YEARLY;BYMONTH=3;BYDAY=-1SU
TZNAME:CEST
END:DAYLIGHT
BEGIN:STANDARD
TZOFFSETFROM:+0200
TZOFFSETTO:+0100
DTSTART:19961027T030000
RRULE:FREQ=YEARLY;BYMONTH=10;BYDAY=-1SU
TZNAME:CET
END:STANDARD
END:VTIMEZONE
BEGIN:VEVENT
UID:95380
ORGANIZER;CN="KeK Kunst entdeckt Kirche e. V" :MAILTO:info@kek-middelich.de
LOCATION:Matthäuskirche, Cranger Straße 81, 45892 Gelsenkirchen
SUMMARY:Rue du Tango - tangoX
DESCRIPTION:tangoX, die kreative Band mit Witz und Charme spielt bekannte Tangos, Stücke von A. Piazzolla und Eigenkompositionen der Band und lässt Tango und Jazz miteinander korrespondieren.Gemeinsam mit dem Publikum begibt sich tangoX auf eine Reise durch ein bewegtes Jahrhundert und lässt sich tragen von der Ausdruckskraft des Tangos, seiner Tiefe und Schwermut gleichermaßen wie seinem prickelnden Witz und fordernden Rhythmus. tangoX – mit:Johanna Schmidt (Violine), Bart Rademakers (Klavier), Stefan Berger (Kontrabass),Stefan Kremer (Schlagzeug) – begeistert das Publikum seit vielen Jahren. Die wache Kommunikation zwischen den Musikern, ihr lebendiges Zusammenspiel, ihre mitreißende Spielfreude auf der Bühne, kurz: ihre dynamische Performance, sind ein ganz besonderes Erlebnis. Freuen Sie sich auf tangoX!Einlass: ca. 30 Minuten vor KonzertbeginnKunst entdeckt Kirche e.V. veranstaltet kulturelle, überwie-gend konzertante Veranstaltungen in der Matthäuskirche. Die damit verbundenen Kosten werden über Spenden und Ein-trittsgelder finanziert. Kontakt: info@kunstentdecktkirche.de
CLASS:PUBLIC
DTSTART;TZID=Europe/Berlin:20260510T180000
DTSTAMP:20060812T125900Z
END:VEVENT
END:VCALENDAR