BEGIN:VCALENDAR
VERSION:2.0
PRODID:http://www.gelsenkirchen.de
METHOD:PUBLISH
BEGIN:VTIMEZONE
TZID:Europe/Berlin
BEGIN:DAYLIGHT
TZOFFSETFROM:+0100
TZOFFSETTO:+0200
DTSTART:19810329T020000
RRULE:FREQ=YEARLY;BYMONTH=3;BYDAY=-1SU
TZNAME:CEST
END:DAYLIGHT
BEGIN:STANDARD
TZOFFSETFROM:+0200
TZOFFSETTO:+0100
DTSTART:19961027T030000
RRULE:FREQ=YEARLY;BYMONTH=10;BYDAY=-1SU
TZNAME:CET
END:STANDARD
END:VTIMEZONE
BEGIN:VEVENT
UID:95367
ORGANIZER;CN="emschertainment GmbH" :MAILTO:info@emschertainment.de
LOCATION:Heilig-Kreuz-Kirche, Bochumer Straße 115, 45886 Gelsenkirchen
SUMMARY:Glückauf! Grossmann - Talk und Musik am Sonntag mit Steffi Neu und Sebel
DESCRIPTION:„GLÜCKAUF! GROSSMANN“ Das Talk- und Musikformat in der Gelsenkirchener Heilig-Kreuz-Kirche geht in die 2.Runde.Peter Grossmann begrüßt als Gastgeber besondere Menschen, um mit Ihnen unterhaltsam über ihr Leben zu plaudern. Und meistens spielt dabei auch die Musik eine wichtige Rolle. Dieses Mal sind bei Ihm Steffi Neu und Sebel zu Gast.Steffi Neu ist nicht nur im Radio seit Jahren eine feste Marke bei WDR 2, sondern auch mit unterschiedlichen Formaten auf Bühnen unterwegs, schreibt Bücher und ist schon viele Jahre für das Weihnachtswunder auf WDR 2 zuständig. Sie wird an diesem Abend musikalisch unterstützt durchden deutschen Singer-Songwriter Sebel, der u.a. oft auf Tour mit Stefan Stoppok unterwegs ist.Einlass: 17:00 UhrInfos unter: 0209 / 9541 100
CLASS:PUBLIC
DTSTART;TZID=Europe/Berlin:20260510T180000
DTSTAMP:20060812T125900Z
END:VEVENT
END:VCALENDAR