BEGIN:VCALENDAR
VERSION:2.0
PRODID:http://www.gelsenkirchen.de
METHOD:PUBLISH
BEGIN:VTIMEZONE
TZID:Europe/Berlin
BEGIN:DAYLIGHT
TZOFFSETFROM:+0100
TZOFFSETTO:+0200
DTSTART:19810329T020000
RRULE:FREQ=YEARLY;BYMONTH=3;BYDAY=-1SU
TZNAME:CEST
END:DAYLIGHT
BEGIN:STANDARD
TZOFFSETFROM:+0200
TZOFFSETTO:+0100
DTSTART:19961027T030000
RRULE:FREQ=YEARLY;BYMONTH=10;BYDAY=-1SU
TZNAME:CET
END:STANDARD
END:VTIMEZONE
BEGIN:VEVENT
UID:95358
ORGANIZER;CN="Musiktheater im Revier" :MAILTO:info@musiktheater-im-revier.de
LOCATION:Musiktheater im Revier (MiR) - Großes Haus, Kennedyplatz, 45881 Gelsenkirchen
SUMMARY:MiR goes Glam-Rock - Queen Forever!
DESCRIPTION:Die Band Queen und ihre Hits lassen sich in einem Wort beschreiben: legendär! Freddie Mercury und Co. waren eine der weltweit erfolgreichsten Bands. Und auch knapp 40 Jahre nach ihrem letzten Auftreten sind die Songs von Queen noch überall zu hören. Und die Legende lebt fort. In „MiR goes Glam-Rock“ holen GMD Rasmus Baumann und die Neue Philharmonie Westfalen den Glam-Rock von Queen zurück auf die Bühne. Orchester, Band sowie Solistinnen und Solisten präsentieren die größten Hits der britischen Rockband von „Bohemian Rhapsody“ bis „We Will Rock You“ in opulenten Arrangements. Wer kann da noch stillsitzen?
CLASS:PUBLIC
DTSTART;TZID=Europe/Berlin:20260510T180000
DTEND;TZID=Europe/Berlin:20260510T200000
DTSTAMP:20060812T125900Z
END:VEVENT
END:VCALENDAR