BEGIN:VCALENDAR
VERSION:2.0
PRODID:http://www.gelsenkirchen.de
METHOD:PUBLISH
BEGIN:VTIMEZONE
TZID:Europe/Berlin
BEGIN:DAYLIGHT
TZOFFSETFROM:+0100
TZOFFSETTO:+0200
DTSTART:19810329T020000
RRULE:FREQ=YEARLY;BYMONTH=3;BYDAY=-1SU
TZNAME:CEST
END:DAYLIGHT
BEGIN:STANDARD
TZOFFSETFROM:+0200
TZOFFSETTO:+0100
DTSTART:19961027T030000
RRULE:FREQ=YEARLY;BYMONTH=10;BYDAY=-1SU
TZNAME:CET
END:STANDARD
END:VTIMEZONE
BEGIN:VEVENT
UID:95341
ORGANIZER;CN="Musiktheater im Revier" :MAILTO:info@musiktheater-im-revier.de
LOCATION:Musiktheater im Revier (MiR) - Kleines Haus, Kennedyplatz, 45881 Gelsenkirchen
SUMMARY:Phoenix Effect
DESCRIPTION:Ob als Symbol für die aufgehende Sonne, als Segensbringer und Unheilsbote zugleich oder als Sinnbild für Vernichtung und Wiederauferstehung – geflügelte mythische Fabelwesen wie der Phönix, der Benu oder der жар-птица (Feuervogel) sind in der Kulturgeschichte vieler Völker tief verwurzelt. Oftmals stehen diese magisch glühenden oder gar brennenden Vögel sinnbildlich für einen Übergang – vom Ende zu einem neuen Anfang, von Erstarrung zur unerwarteten Erlösung oder von der Zerstörung zu einer vollständigen Erneuerung oder Verjüngung.Was bedeutet der „Phoenix Effect“ für den Tanz? Die international gefeierten Choreograf*innen Lali Ayguadé und Akira Yoshida nähern sich dem Thema beide auf ganz eigene Weise. Nach einer gemeinsamen Arbeit 2023 begeben sie sich nun in Gelsenkirchen mit je einer eigenen Choreografie auf Spurensuche. Während Ayugadé sich in ihren Arbeiten auf die Dynamik zwischen Individuum und Gruppe konzentriert und mittels Körperlichkeit und Theatralik Kontraste in Emotion und Bewegung erforscht, kombiniert Yoshida zeitgenössische Tanztechniken mit Breaking und Physical Theatre.So entsteht an diesem Abend eine eindrückliche Kombination verschiedenster Stile. In Kombination mit der preisgekrönten Choreografie der Rotterdam International Duet Choreography Competition 2025 wird die Glut der Tanzleidenschaft noch weiter angefacht. So, wie der Phönix aus der Asche steigt, lässt also auch die MiR Dance Company neue Choreografien auferstehen.Infos unter: 0209 / 4097 200
CLASS:PUBLIC
DTSTART;TZID=Europe/Berlin:20260509T190000
DTSTAMP:20060812T125900Z
END:VEVENT
END:VCALENDAR