BEGIN:VCALENDAR
VERSION:2.0
PRODID:http://www.gelsenkirchen.de
METHOD:PUBLISH
BEGIN:VTIMEZONE
TZID:Europe/Berlin
BEGIN:DAYLIGHT
TZOFFSETFROM:+0100
TZOFFSETTO:+0200
DTSTART:19810329T020000
RRULE:FREQ=YEARLY;BYMONTH=3;BYDAY=-1SU
TZNAME:CEST
END:DAYLIGHT
BEGIN:STANDARD
TZOFFSETFROM:+0200
TZOFFSETTO:+0100
DTSTART:19961027T030000
RRULE:FREQ=YEARLY;BYMONTH=10;BYDAY=-1SU
TZNAME:CET
END:STANDARD
END:VTIMEZONE
BEGIN:VEVENT
UID:95338
ORGANIZER;CN="emschertainment GmbH" :MAILTO:info@emschertainment.de
LOCATION:Heilig-Kreuz-Kirche, Bochumer Straße 115, 45886 Gelsenkirchen
SUMMARY:Osan Yaran - Aus Prinzip
DESCRIPTION:"Osan Yaran liebt den Wahnsinn „Aus Prinzip!“„Aus Prinzip!“ – so heißt das brandneue Programm von Osan Yaran. Ehemann, Familienvater und Ex-Lidl-Filialleiter. Mit seinen täglichen Reels im Internet erreicht der mehrfach preisgekrönte Comedian stets hunderttausende Zuschauer. Er baute sich so in kurzer Zeit eine riesige Fangemeinde auf, die auch schnell seine Live-Auftritte stürmte. Nach einer ersten ausverkauften Tour folgt nun mit „Aus Prinzip!“ sein zweites Programm, mit dem der hoffnungslose Idealist seit Herbst 2024 durch Deutschland, Österreich und Schweiz auf Tournee ist!Seid dabei, wenn er den Wahnsinn des Alltags thematisiert und seine Erlebnisse pointiert ad absurdum führt. Mit perfektem Timing spricht er darüber, dass man Klischees mit Humor begegnen muss, warum Teenager ein schwarzes Loch für Nahrungsmittel sind und Frauen auch gerne mal pupsen dürfen.Am Ende wird sich herausstellen, ob Osans Alltag Wahnsinn ist oder doch eher sein Blickwinkel."Einlass: 18:00 UhrInfos unter: 0209 / 9541 100
CLASS:PUBLIC
DTSTART;TZID=Europe/Berlin:20260507T190000
DTSTAMP:20060812T125900Z
END:VEVENT
END:VCALENDAR