BEGIN:VCALENDAR
VERSION:2.0
PRODID:http://www.gelsenkirchen.de
METHOD:PUBLISH
BEGIN:VTIMEZONE
TZID:Europe/Berlin
BEGIN:DAYLIGHT
TZOFFSETFROM:+0100
TZOFFSETTO:+0200
DTSTART:19810329T020000
RRULE:FREQ=YEARLY;BYMONTH=3;BYDAY=-1SU
TZNAME:CEST
END:DAYLIGHT
BEGIN:STANDARD
TZOFFSETFROM:+0200
TZOFFSETTO:+0100
DTSTART:19961027T030000
RRULE:FREQ=YEARLY;BYMONTH=10;BYDAY=-1SU
TZNAME:CET
END:STANDARD
END:VTIMEZONE
BEGIN:VEVENT
UID:95335
ORGANIZER;CN="Institut für Stadtgeschichte" :MAILTO:isg@gelsenkirchen.de
LOCATION:Dokumentationsstätte "Gelsenkirchen im Nationalsozialismus", Cranger Straße 323, 45891 Gelsenkirchen
SUMMARY:Tag der offenen Tür – Erinnerung an das Kriegsende vor 81 Jahren am 8. Mai 1945
DESCRIPTION:Am Tag der offenen Tür wird zu öffentlichen Rundgängen um 11 und 15 Uhr durch die Ausstellung „Gelsenkirchen im Nationalsozialismus“ eingeladen. Zudem informieren historische Filmausschnitte, Bildquellen und Einblicke in die Stadtchronik zu den lokalen Ereignissen zum Kriegsende und über den Neubeginn in Gelsenkirchen. Ein Beitrag zum 81. Jahrestag des Kriegsendes am 8. Mai 1945.Info: 0209 169-8551
CLASS:PUBLIC
DTSTART;TZID=Europe/Berlin:20260510T110000
DTEND;TZID=Europe/Berlin:20260510T170000
DTSTAMP:20060812T125900Z
END:VEVENT
END:VCALENDAR