BEGIN:VCALENDAR
VERSION:2.0
PRODID:http://www.gelsenkirchen.de
METHOD:PUBLISH
BEGIN:VTIMEZONE
TZID:Europe/Berlin
BEGIN:DAYLIGHT
TZOFFSETFROM:+0100
TZOFFSETTO:+0200
DTSTART:19810329T020000
RRULE:FREQ=YEARLY;BYMONTH=3;BYDAY=-1SU
TZNAME:CEST
END:DAYLIGHT
BEGIN:STANDARD
TZOFFSETFROM:+0200
TZOFFSETTO:+0100
DTSTART:19961027T030000
RRULE:FREQ=YEARLY;BYMONTH=10;BYDAY=-1SU
TZNAME:CET
END:STANDARD
END:VTIMEZONE
BEGIN:VEVENT
UID:95333
ORGANIZER;CN="Public Jazz Events in Kooperation mit dem Verein zur Förderung von Jazz e. V." 
LOCATION:Nordsternturm, Nordsternplatz 1, 45899 Gelsenkirchen
SUMMARY:Kadri Voorand & Mihkel Mälgand
DESCRIPTION:Das Duo Kadri Voorand &amp; Mihkel Mälgand entwirft voller Leidenschaft ein Klanggemälde in Großformat.Einlass: 18:30 Uhr
CLASS:PUBLIC
DTSTART;TZID=Europe/Berlin:20260509T200000
DTSTAMP:20060812T125900Z
END:VEVENT
END:VCALENDAR