BEGIN:VCALENDAR
VERSION:2.0
PRODID:http://www.gelsenkirchen.de
METHOD:PUBLISH
BEGIN:VTIMEZONE
TZID:Europe/Berlin
BEGIN:DAYLIGHT
TZOFFSETFROM:+0100
TZOFFSETTO:+0200
DTSTART:19810329T020000
RRULE:FREQ=YEARLY;BYMONTH=3;BYDAY=-1SU
TZNAME:CEST
END:DAYLIGHT
BEGIN:STANDARD
TZOFFSETFROM:+0200
TZOFFSETTO:+0100
DTSTART:19961027T030000
RRULE:FREQ=YEARLY;BYMONTH=10;BYDAY=-1SU
TZNAME:CET
END:STANDARD
END:VTIMEZONE
BEGIN:VEVENT
UID:95330
ORGANIZER;CN="Musiktheater im Revier" :MAILTO:info@musiktheater-im-revier.de
LOCATION:Musiktheater im Revier (MiR) - Großes Haus, Kennedyplatz, 45881 Gelsenkirchen
SUMMARY:Die Zauberflöte
DESCRIPTION:Was geschieht, wenn Große Oper und Computerspiel-Mechanismen in einer Märchenwelt aufeinandertreffen? Und was, wenn dort ganz selbstverständlich Machtspielchen und das Verbreiten eigenwilliger Wahrheiten gepflegt würden?Prinz Tamino hat ein neues Level erreicht. Im Auftrag der Königin der Nacht soll er die entführte Pamina aus den Fängen des „weisen Herrschers“ Sarastro retten. Nichtsahnend gerät er in eine Welt voller Prüfungen, Magie sowie gegnerischer Kräfte – und muss lernen, dass Wahrheit oft eine Frage der Perspektive ist. Mit Hilfe der Zauberflöte und begleitet von seinem eher unfreiwilligen Gefährten Papageno versucht er, sich in einem intoleranten System voller Bewährungsproben, Manipulation und politischer (Selbst-)Inszenierung zurechtzufinden – einem Spiel, dessen Regeln sich laufend ändern. Während Tamino immer neue Herausforderungen besteht, beginnt die eingesperrte Pamina aufzubegehren …Gemeinsam mit dem MiR.LAB, das neue Formen des Musiktheaters an der Schnittstelle von Teilhabe, Kunst und Digitaltechnik erforscht, präsentiert das MiR Mozarts „deutsche Oper“ als märchenhafte und dystopische Open-World-Simulation. In einem von historischen Gemälden und barocken Theaterkulissen inspirierten Bühnenbild mit interaktiven Screens und fantasievollen Kostümen entfaltet sich ein satirisches Spiel aus Wahrheitssuche, Selbstermächtigung und der Frage, wie man in einer komplexen Welt den eigenen moralischen Kompass findet. Perfekt für Opernneulinge, Gaming-Fans und alle, die den beliebten Klassiker neu entdecken möchten.Info: 0209 / 4097 200
CLASS:PUBLIC
DTSTART;TZID=Europe/Berlin:20260606T190000
DTSTAMP:20060812T125900Z
END:VEVENT
END:VCALENDAR