BEGIN:VCALENDAR
VERSION:2.0
PRODID:http://www.gelsenkirchen.de
METHOD:PUBLISH
BEGIN:VTIMEZONE
TZID:Europe/Berlin
BEGIN:DAYLIGHT
TZOFFSETFROM:+0100
TZOFFSETTO:+0200
DTSTART:19810329T020000
RRULE:FREQ=YEARLY;BYMONTH=3;BYDAY=-1SU
TZNAME:CEST
END:DAYLIGHT
BEGIN:STANDARD
TZOFFSETFROM:+0200
TZOFFSETTO:+0100
DTSTART:19961027T030000
RRULE:FREQ=YEARLY;BYMONTH=10;BYDAY=-1SU
TZNAME:CET
END:STANDARD
END:VTIMEZONE
BEGIN:VEVENT
UID:95320
ORGANIZER;CN="Evangelischer Kirchenkreis Gelsenkirchen und Wattenscheid" 
LOCATION:Matthäuskirche, Cranger Straße 81, 45892 Gelsenkirchen
SUMMARY:Einfach heiraten! – Pop-Up Hochzeitsfestival
DESCRIPTION:„Einfach heiraten“ – so wie es zu euch passt! Am 27.6.2026 lädt die Ev. Kirche in Gelsenkirchen und Wattenscheid im Rahmen der bundesweiten Aktion „Einfach heiraten“ interessierte Paare in die Ev. Matthäuskirche und den angrenzenden Haunerfeldpark ein! Dort könnt ihr euch spontan trauen oder segnen lassen. Beides ist in der Kirche sowie an zwei unterschiedlich gestalteten Orten im Park möglich. So könnt ihr entscheiden, ob ihr euren Moment im ruhigen Innenraum erlebt oder unter freiem Himmel.Für eine kirchliche Trauung braucht ihr eure Eheurkunde, außerdem muss eine Person evangelisch sein. Eine Segnung steht allen Paaren offen!Live‑Musik und ein festlicher Rahmen sorgen für eine entspannte, offene Atmosphäre.Ihr möchtet euch schon im Voraus anmelden? Dann schreibt gerne an lukas.werthschulte@ekvw.de
CLASS:PUBLIC
DTSTART;TZID=Europe/Berlin:20260627T120000
DTEND;TZID=Europe/Berlin:20260627T180000
DTSTAMP:20060812T125900Z
END:VEVENT
END:VCALENDAR