BEGIN:VCALENDAR
VERSION:2.0
PRODID:http://www.gelsenkirchen.de
METHOD:PUBLISH
BEGIN:VTIMEZONE
TZID:Europe/Berlin
BEGIN:DAYLIGHT
TZOFFSETFROM:+0100
TZOFFSETTO:+0200
DTSTART:19810329T020000
RRULE:FREQ=YEARLY;BYMONTH=3;BYDAY=-1SU
TZNAME:CEST
END:DAYLIGHT
BEGIN:STANDARD
TZOFFSETFROM:+0200
TZOFFSETTO:+0100
DTSTART:19961027T030000
RRULE:FREQ=YEARLY;BYMONTH=10;BYDAY=-1SU
TZNAME:CET
END:STANDARD
END:VTIMEZONE
BEGIN:VEVENT
UID:95313
ORGANIZER;CN="emschertainment GmbH" :MAILTO:info@emschertainment.de
LOCATION:Heilig Kreuz-Kirche, Bochumer Straße 115, 45886 Gelsenkirchen
SUMMARY:Toni und Max Uthoff – Einer zuviel
DESCRIPTION:40 Jahre Unterschied. Gen X und Gen Z. Lebenserfahrung oder eher weniger.Lassen Sie uns ein Experiment wagen: In einem geschlossenen Raum (Theater) treten zwei Zyniker unterschiedlicher Generation und verschiedener Geschlechteridentität (Vater/Tochter) an, um unter fachkundiger Beobachtung (Publikum) die bedeutsamsten Fragen unserer Zeit zu klären. Wer bringt auf diesem Planeten den Müll runter? Was war zuerst da: Ei oder McChicken? Was lässt sich leichter verhüten, Kinder oder Klimawandel? Wie wird man einen alten, weißen Mann los, wenn der die Miete zahlt? Wie erklärt man der jüngeren Generation die Existenz der FDP? Wie der älteren den Unterschied zwischen LGBTQ und BLT?Genießen Sie einen Abend voller Witz, Weltschmerz und Wahnsinn. Sie werden sich und ihr Umfeld hinterher nicht mehr hassen als vorher. Oder vielleicht doch?Einlass: 18:00 Uhr - Beginn: 19:00 UhrInfo: 0209 9541100
CLASS:PUBLIC
DTSTART;TZID=Europe/Berlin:20260508T190000
DTSTAMP:20060812T125900Z
END:VEVENT
END:VCALENDAR