BEGIN:VCALENDAR
VERSION:2.0
PRODID:http://www.gelsenkirchen.de
METHOD:PUBLISH
BEGIN:VTIMEZONE
TZID:Europe/Berlin
BEGIN:DAYLIGHT
TZOFFSETFROM:+0100
TZOFFSETTO:+0200
DTSTART:19810329T020000
RRULE:FREQ=YEARLY;BYMONTH=3;BYDAY=-1SU
TZNAME:CEST
END:DAYLIGHT
BEGIN:STANDARD
TZOFFSETFROM:+0200
TZOFFSETTO:+0100
DTSTART:19961027T030000
RRULE:FREQ=YEARLY;BYMONTH=10;BYDAY=-1SU
TZNAME:CET
END:STANDARD
END:VTIMEZONE
BEGIN:VEVENT
UID:95312
ORGANIZER;CN="Musiktheater im Revier" :MAILTO:info@musiktheater-im-revier.de
LOCATION:Musiktheater im Revier (MiR) - Kleines Haus, Kennedyplatz, 45881 Gelsenkirchen
SUMMARY:Metal im Revier
DESCRIPTION:Von der Kunst nicht nur emotional durchgerüttelt werden, sondern auch körperlich – auch das ist jetzt am Musiktheater im Revier möglich! In zurückliegenden Produktionen wie „Krabat“ oder „Oper Otze Axt“ wurden bereits härtere Töne angeschlagen. Nun folgt mit „Metal im Revier“ ein reiner Konzertabend für Fans von lauter Livemusik. Zu diesem Anlass spielt nicht irgendwer, sondern diejenigen, die sonst hinter den Kulissen arbeiten. Einige Mitglieder der Bands kommen aus den Werkstätten des Musiktheaters, wo die „schwarze Kunst der Theatertechnik“ praktiziert wird. Entsprechend düster wird das Bühnenprogramm aussehen: Es stehen Metal und (Horror-)Punk auf dem Plan.Mit diesem Konzertabend am MiR wird die Metal-Region Ruhrgebiet um eine Facette reicher: Im Theaterfoyer wird das Bier kühl gestellt und im Parkett des kleinen Hauses gibt es zur Abwechslung mal Stehplätze.Durch den Abend führt Sie Ihr Tinnitus*.*Gehörschutz ist am Einlass erhältlich!Info: 0209 / 4097 200
CLASS:PUBLIC
DTSTART;TZID=Europe/Berlin:20260508T190000
DTSTAMP:20060812T125900Z
END:VEVENT
END:VCALENDAR