BEGIN:VCALENDAR
VERSION:2.0
PRODID:http://www.gelsenkirchen.de
METHOD:PUBLISH
BEGIN:VTIMEZONE
TZID:Europe/Berlin
BEGIN:DAYLIGHT
TZOFFSETFROM:+0100
TZOFFSETTO:+0200
DTSTART:19810329T020000
RRULE:FREQ=YEARLY;BYMONTH=3;BYDAY=-1SU
TZNAME:CEST
END:DAYLIGHT
BEGIN:STANDARD
TZOFFSETFROM:+0200
TZOFFSETTO:+0100
DTSTART:19961027T030000
RRULE:FREQ=YEARLY;BYMONTH=10;BYDAY=-1SU
TZNAME:CET
END:STANDARD
END:VTIMEZONE
BEGIN:VEVENT
UID:95306
ORGANIZER;CN="Initiative Alfred Zingler-Haus e.V." 
LOCATION:Alfred-Zingler-Haus, Margaretenhof 10-12, 45888 Gelsenkirchen
SUMMARY:Kneipen-Quiz
DESCRIPTION:Zwei Stunden Spaß mit Wissen, Rätseln und Raten zu kuriosen und seriösen Fragen aus unterschiedlichen Wissens- und Erfahrungsbereichen rund ums Ruhrgebiet und Gelsenkirchen stehen auf dem Programm des Kneipen-Quiz im Alfred-Zingler-Haus.Gespielt wird in Teams von drei Personen, die Zusammensetzung wird ausgelost. Wer erstmal nur zuschauen möchte, ist ebenfalls willkommen. Natürlich gibt es auch einen Preis für das Team mit der höchsten Punktzahl.Anmeldung errforderlich: per Mail an veranstaltungen.ini.azh@gmx.de oder telefonisch unter 0209-84307
CLASS:PUBLIC
DTSTART;TZID=Europe/Berlin:20260422T193000
DTSTAMP:20060812T125900Z
END:VEVENT
END:VCALENDAR