BEGIN:VCALENDAR
VERSION:2.0
PRODID:http://www.gelsenkirchen.de
METHOD:PUBLISH
BEGIN:VTIMEZONE
TZID:Europe/Berlin
BEGIN:DAYLIGHT
TZOFFSETFROM:+0100
TZOFFSETTO:+0200
DTSTART:19810329T020000
RRULE:FREQ=YEARLY;BYMONTH=3;BYDAY=-1SU
TZNAME:CEST
END:DAYLIGHT
BEGIN:STANDARD
TZOFFSETFROM:+0200
TZOFFSETTO:+0100
DTSTART:19961027T030000
RRULE:FREQ=YEARLY;BYMONTH=10;BYDAY=-1SU
TZNAME:CET
END:STANDARD
END:VTIMEZONE
BEGIN:VEVENT
UID:95304
ORGANIZER;CN="Wirtschaftsförderung Gelsenkirchen" 
LOCATION:Café Spotlight, Arminstraße 15, 45879 Gelsenkirchen
SUMMARY:Gründungsnetzwerk GE
DESCRIPTION:Wir freuen uns sehr, Sie herzlich zur nächsten Ausgabe unserer Veranstaltungsreihe einzuladen.Mit dem Gründungsnetzwerk GE haben wir eine neue Plattform für Austausch, Vernetzung und Zusammenarbeit innerhalb der lokalen Gründungs- und StartUp-Szene geschaffen. In entspannter Atmosphäre bringen wir Gründerinnen und Gründer, Gründungsinteressierte sowie Akteurinnen und Akteure aus dem regionalen Ökosystem zusammen. Für Getränke und Snacks ist ebenfalls gesorgt.Was Sie erwartet:Persönliches Kennenlernen unseres Teams der Wirtschaftsförderung Gelsenkirchen.Inspirierender Austausch über Gründungserfahrungen, Herausforderungen und Chancen.Vernetzung mit Gründerinnen und Gründern aus ähnlichen oder gleichen Branchen.Die Möglichkeit, neue Geschäftsideen kennenzulernen und gemeinsame Impulse zu entwickeln.Unterstützung und Beratung rund um Gründung, Förderung und Wachstum durch unsere Expertise und die unserer Netzwerkpartnerinnen und -partnerWir freuen uns sehr, Sie begrüßen zu dürfen und gemeinsam mit Ihnen unser lebendiges Gründungsnetzwerk in Gelsenkirchen weiter auszubauen.Um Anmeldung zu unserer kostenfreien Veranstaltung wird gebeten.
CLASS:PUBLIC
DTSTART;TZID=Europe/Berlin:20260512T170000
DTEND;TZID=Europe/Berlin:20260512T210000
DTSTAMP:20060812T125900Z
END:VEVENT
END:VCALENDAR