BEGIN:VCALENDAR
VERSION:2.0
PRODID:http://www.gelsenkirchen.de
METHOD:PUBLISH
BEGIN:VTIMEZONE
TZID:Europe/Berlin
BEGIN:DAYLIGHT
TZOFFSETFROM:+0100
TZOFFSETTO:+0200
DTSTART:19810329T020000
RRULE:FREQ=YEARLY;BYMONTH=3;BYDAY=-1SU
TZNAME:CEST
END:DAYLIGHT
BEGIN:STANDARD
TZOFFSETFROM:+0200
TZOFFSETTO:+0100
DTSTART:19961027T030000
RRULE:FREQ=YEARLY;BYMONTH=10;BYDAY=-1SU
TZNAME:CET
END:STANDARD
END:VTIMEZONE
BEGIN:VEVENT
UID:95297
ORGANIZER;CN="emschertainment GmbH" :MAILTO:info@emschertainment.de
LOCATION:Kaue Gelsenkirchen, Wilhelminenstraße 176, 45881 Gelsenkirchen
SUMMARY:Tobii live - Mutti & Friends
DESCRIPTION:"Der Comedy-Senkrechtstarter und Social-Media-Superstar Tobii bringt seine einzigartigen Charaktere endlich auf die Bühne. Auf TikTok und Instagram konnte er durch seinen ganz eigenen Humor und seine authentischen Sketche schnell eine Fangemeinde von über 1.5 Millionen treuen Followern aufbauen. Jetzt sind seine Figuren wie die Mutti, die Nachbarin oder die Lehrerin endlich auf Live-Tour. In einer verrückten Mischung aus Live-Sketchen, Stand Up, Publikumsbeteiligung und Musical nimmt Tobii den typisch deutschen Alltag auf die Schippe und zeigt sein wahres Entertainment- Talent.Mit kurzen Video Sketches wie „Typisch Lehrerin“ oder „Typisch deutsche Nachbarn“ hat Tobii ader Dortmunder mittlerweile die Millionen auf TikTok geknackt. Und das, obwohl es nie sein eigentliches Ziel war. „Das Einzige, was ich schon immer wollte war, zu sehen, dass Leute Spaß haben, meine Videos zu schauen.“ Schon in der Schulzeit hat der gebürtige Dortmunder darüber nachgedacht, mal ein Video auf YouTube hochzuladen. „Das Video habe ich dann nach drei Wochen wieder offline gestellt“, erzählt Tobi schmunzelnd. Jetzt steht er kurz vor seiner ersten Tour und die geht durch ganz Deutschland.Aufgewachsen ist Tobias F. im Dortmunder Stadtteil Eving. „Da weiß auch jeder, wer ich bin. Ich glaube, das ist so n Ruhrpott-Ding“, sagt Tobi. Nach seinem Realschulabschluss hatte er viele Ideen für seine berufliche Zukunft. „Von Koch über Immobilienmakler bis Kriminalpolizist. Es war alles dabei“, erzählt Tobi lachend. „Ich war einer der einzigen von meinen Schulkameraden, der kein Abi machen und direkt Geld verdienen wollte.“ Dass er bei seiner ersten Bewerbung für eine Ausbildung abgelehnt wurde, ist für ihn heute nur noch halb so schlimm. Für ihn waren andere Dinge bestimmt."Einlass: 19:00 UhrInfos unter: 0209 / 9541 100
CLASS:PUBLIC
DTSTART;TZID=Europe/Berlin:20260502T200000
DTSTAMP:20060812T125900Z
END:VEVENT
END:VCALENDAR