BEGIN:VCALENDAR
VERSION:2.0
PRODID:http://www.gelsenkirchen.de
METHOD:PUBLISH
BEGIN:VTIMEZONE
TZID:Europe/Berlin
BEGIN:DAYLIGHT
TZOFFSETFROM:+0100
TZOFFSETTO:+0200
DTSTART:19810329T020000
RRULE:FREQ=YEARLY;BYMONTH=3;BYDAY=-1SU
TZNAME:CEST
END:DAYLIGHT
BEGIN:STANDARD
TZOFFSETFROM:+0200
TZOFFSETTO:+0100
DTSTART:19961027T030000
RRULE:FREQ=YEARLY;BYMONTH=10;BYDAY=-1SU
TZNAME:CET
END:STANDARD
END:VTIMEZONE
BEGIN:VEVENT
UID:95296
ORGANIZER;CN="emschertainment GmbH" :MAILTO:info@emschertainment.de
LOCATION:Heilig-Kreuz-Kirche, Bochumer Straße 115, 45886 Gelsenkirchen
SUMMARY:ÜNIK-Art
DESCRIPTION:"Die fünfte Auflage vom ÜNIKART findet am 2. Mai 2026 in der Heilig-Kreuz-Kirche in Gelsenkirchen-Ückendorf statt.Künstlerisches Schaffen und handwerkliche Arbeiten stehen im Mittelpunkt des Marktes. Besucherinnen und Besucher können vielfältige Werke entdecken, die in der besonderen Atmosphäre der ehemaligen Kirche präsentiert werden. Ergänzt wird das Programm durch exklusive DJ-Sets und Live-Auftritte.Auf dem Vorplatz laden Foodtrucks und Stände mit Speisen und Getränken zum Verweilen ein.Ein außergewöhnliches Erlebnis für alle, die Kunst, Handwerk und Kultur in besonderem Ambiente genießen möchten."Infos unter: 0209 / 9541 100
CLASS:PUBLIC
DTSTART;TZID=Europe/Berlin:20260502T120000
DTSTAMP:20060812T125900Z
END:VEVENT
END:VCALENDAR