BEGIN:VCALENDAR
VERSION:2.0
PRODID:http://www.gelsenkirchen.de
METHOD:PUBLISH
BEGIN:VTIMEZONE
TZID:Europe/Berlin
BEGIN:DAYLIGHT
TZOFFSETFROM:+0100
TZOFFSETTO:+0200
DTSTART:19810329T020000
RRULE:FREQ=YEARLY;BYMONTH=3;BYDAY=-1SU
TZNAME:CEST
END:DAYLIGHT
BEGIN:STANDARD
TZOFFSETFROM:+0200
TZOFFSETTO:+0100
DTSTART:19961027T030000
RRULE:FREQ=YEARLY;BYMONTH=10;BYDAY=-1SU
TZNAME:CET
END:STANDARD
END:VTIMEZONE
BEGIN:VEVENT
UID:95241
ORGANIZER;CN="VHS - Volkshochschule der Stadt Gelsenkirchen" 
LOCATION:Musiktheater im Revier - Bühneneingang, Kennedyplatz 1, 45881 Gelsenkirchen
SUMMARY:MiR.Intensiv: Versteckte Schaltzentrale im MiR - Die Inspizienz
DESCRIPTION:Die Arbeit im Musiktheater lebt von der Kreativität aller Beteiligten, aber auch davon, dass die unterschiedlichsten Abteilungen ihren Beitrag leisten, damit am Ende auf der Bühne ein stimmiges Gesamtkunstwerk zu erleben ist. Im Rahmen von „MiR.intensiv“ werden die Strukturen und Arbeitsprozesse hinter den Kulissen erkundet. Die Teilnehmenden lernen Theatermenschen, ihre verschiedenen Berufe und Aufgabenbereiche kennen – und erhalten so neue Einblicke in das, was am Musiktheater passiert, um am Ende als echte Theaterexpertinnen und -experten die Vorstellungen des MiR noch besser verstehen und damit auch mehr genießen zu können.Es ist einer der verstecktesten Berufe am Theater: die Inspizienz. Dabei arbeiten die Inspizientinnen und Inspizienten im Innersten des Hauses an einer der wichtigsten Schaltzentralen zwischen musikalischen und künstlerisch-kreativen Beteiligten sowie technischen Gewerken. Bei einer Vorstellung sind bis zu 150 oder mehr Mitwirkende direkt involviert. Nur, wenn Musik und Szene oder Choreografie perfekt mit Lichtwechseln, Bühnenumbauten und Spezialeffekten koordiniert werden und kleine Abweichungen ggf. in Sekundenschnelle ausgeglichen werden, gelingt es jeden Abend von Neuem, Bühnenmagie entstehen zu lassen – und das steuert die Inspizienz. Mit welchen Mitteln, wann, wie und mit wem arbeiten Inspizienten? Am Ort des Geschehens erläutert Inspizientin Tilla Foljanty im Gespräch mit Dramaturg Samuel Zinsli den Entstehungsprozess einer Opernproduktion aus Sicht der Inspizienz und gibt einen intensiven Einblick in den Alltag hinter der Bühne und mitten drin im Musiktheater im Revier.Treffpunkt: Bühneneingang des MiR an der GebäudeseiteAlle "MiR intensiv"-Termine sind in diesem Semester jeweils als Einzelveranstaltungen buchbar.Anmeldung erforderlich (Kursnummer 2612007)
CLASS:PUBLIC
DTSTART;TZID=Europe/Berlin:20260512T190000
DTEND;TZID=Europe/Berlin:20260512T203000
DTSTAMP:20060812T125900Z
END:VEVENT
END:VCALENDAR