BEGIN:VCALENDAR
VERSION:2.0
PRODID:http://www.gelsenkirchen.de
METHOD:PUBLISH
BEGIN:VTIMEZONE
TZID:Europe/Berlin
BEGIN:DAYLIGHT
TZOFFSETFROM:+0100
TZOFFSETTO:+0200
DTSTART:19810329T020000
RRULE:FREQ=YEARLY;BYMONTH=3;BYDAY=-1SU
TZNAME:CEST
END:DAYLIGHT
BEGIN:STANDARD
TZOFFSETFROM:+0200
TZOFFSETTO:+0100
DTSTART:19961027T030000
RRULE:FREQ=YEARLY;BYMONTH=10;BYDAY=-1SU
TZNAME:CET
END:STANDARD
END:VTIMEZONE
BEGIN:VEVENT
UID:95240
ORGANIZER;CN="VHS - Volkshochschule der Stadt Gelsenkirchen" 
LOCATION:Online, -, - -
SUMMARY:Hip-Hop – Kreativität, Postkolonialismus und Konstruktion von Geschlechtern
DESCRIPTION:Deutschem Hip-Hop und vor allem deutschem Rap wird oft eine Überbetonung toxischer Männlichkeit nachgesagt. Warum ist das so? Koloniale Erfahrungen und postkoloniale Strukturen spielen dabei eine wichtige Rolle, nicht nur im US-amerikanischen, sondern gerade auch im deutschen Rap. Vorurteile und Stereotypen, die der Überlegenheitskonstruktion der Kolonisatoren gedient haben, werden nach wie vor reproduziert. Warum passiert das und was für einen Zweck erfüllt das gerade im deutschen Rap? Eben diese Fragen sollen im Vortrag geklärt werden.David Ratzel, ist Sozialarbeiter, Erziehungswissenschaftler und Doktorand. Die Veranstaltung wird in Kooperation mit der vhs Böblingen-Sindelfingen angeboten. Technische Voraussetzungen sind ein internetfähiges Endgerät mit Lautsprechern oder Kopfhörern. Als digitales Konferenztool wird die Plattform "Edudip" genutzt. Die Zugangsdaten werden mit der Anmeldebestätigung per Mail zugeschickt.Online-Anmeldung erforderlich (Kursnummer 2611244). 
CLASS:PUBLIC
DTSTART;TZID=Europe/Berlin:20260512T190000
DTEND;TZID=Europe/Berlin:20260512T200000
DTSTAMP:20060812T125900Z
END:VEVENT
END:VCALENDAR