BEGIN:VCALENDAR
VERSION:2.0
PRODID:http://www.gelsenkirchen.de
METHOD:PUBLISH
BEGIN:VTIMEZONE
TZID:Europe/Berlin
BEGIN:DAYLIGHT
TZOFFSETFROM:+0100
TZOFFSETTO:+0200
DTSTART:19810329T020000
RRULE:FREQ=YEARLY;BYMONTH=3;BYDAY=-1SU
TZNAME:CEST
END:DAYLIGHT
BEGIN:STANDARD
TZOFFSETFROM:+0200
TZOFFSETTO:+0100
DTSTART:19961027T030000
RRULE:FREQ=YEARLY;BYMONTH=10;BYDAY=-1SU
TZNAME:CET
END:STANDARD
END:VTIMEZONE
BEGIN:VEVENT
UID:95238
ORGANIZER;CN="VHS - Volkshochschule der Stadt Gelsenkirchen" 
LOCATION:Bildungszentrum, Ebertstraße 19, 45879 Gelsenkirchen
SUMMARY:Westafrikanisches Trommeln
DESCRIPTION:Tauchen Sie ein in die kraftvolle Welt des westafrikanischen Trommelns! In diesem Workshop lernen Sie die Djembe kennen und spüren die Energie und Dynamik, die diese Trommel in sich trägt. Die Rhythmen sind geprägt von Ursprünglichkeit, Temperament und Lebensfreude – genau das vermitteln wir in der Gruppe durch das gemeinsame Spiel traditioneller Rhythmen. Der Workshop ist für Interessierte mit oder ohne Trommelerfahrungen. Erleben Sie, wie ansteckend und verbindend das Trommeln in der Gruppe sein kann. Die Instrumente werden zur Verfügung gestellt, dafür ist eine Leihgebühr in Höhe von 5,- € vor Ort an den Kursleiter zu zahlen.Der Kursleiter ist Musiker mit über 30 Jahren Trommel-Erfahrung in der traditionellen afrikanischen Kultur. Er ist Leiter der Trommelschule "Circulo Tambores" sowie Mitglied der Trommelgruppe "Mama Limbo".Raum 207Anmeldung auf www.vhs-gelsenkirchen.de erforderlich (Kursnummer 2612114). 
CLASS:PUBLIC
DTSTART;TZID=Europe/Berlin:20260509T140000
DTEND;TZID=Europe/Berlin:20260509T163000
DTSTAMP:20060812T125900Z
END:VEVENT
END:VCALENDAR