BEGIN:VCALENDAR
VERSION:2.0
PRODID:http://www.gelsenkirchen.de
METHOD:PUBLISH
BEGIN:VTIMEZONE
TZID:Europe/Berlin
BEGIN:DAYLIGHT
TZOFFSETFROM:+0100
TZOFFSETTO:+0200
DTSTART:19810329T020000
RRULE:FREQ=YEARLY;BYMONTH=3;BYDAY=-1SU
TZNAME:CEST
END:DAYLIGHT
BEGIN:STANDARD
TZOFFSETFROM:+0200
TZOFFSETTO:+0100
DTSTART:19961027T030000
RRULE:FREQ=YEARLY;BYMONTH=10;BYDAY=-1SU
TZNAME:CET
END:STANDARD
END:VTIMEZONE
BEGIN:VEVENT
UID:95232
ORGANIZER;CN="VHS - Volkshochschule der Stadt Gelsenkirchen" 
LOCATION:Online, -, - -
SUMMARY:Desinformation im Internet: Wie können Demokratien darauf reagieren?
DESCRIPTION:Desinformationen haben insbesondere in den letzten Jahren an Brisanz zugenommen: Ihre Anzahl ist rasant gestiegen und durch den verstärkten Einsatz von KI wächst die Verunsicherung in der Gesellschaft, welchen Informationen man überhaupt noch trauen kann. Der Vortrag beleuchtet Herausforderungen, Studien und Strategien, um Gesellschaft und Einzelne widerstandsfähiger zu machen.Online-Anmeldung erforderlich (Kursnummer 2611224)
CLASS:PUBLIC
DTSTART;TZID=Europe/Berlin:20260506T190000
DTSTAMP:20060812T125900Z
END:VEVENT
END:VCALENDAR