BEGIN:VCALENDAR
VERSION:2.0
PRODID:http://www.gelsenkirchen.de
METHOD:PUBLISH
BEGIN:VTIMEZONE
TZID:Europe/Berlin
BEGIN:DAYLIGHT
TZOFFSETFROM:+0100
TZOFFSETTO:+0200
DTSTART:19810329T020000
RRULE:FREQ=YEARLY;BYMONTH=3;BYDAY=-1SU
TZNAME:CEST
END:DAYLIGHT
BEGIN:STANDARD
TZOFFSETFROM:+0200
TZOFFSETTO:+0100
DTSTART:19961027T030000
RRULE:FREQ=YEARLY;BYMONTH=10;BYDAY=-1SU
TZNAME:CET
END:STANDARD
END:VTIMEZONE
BEGIN:VEVENT
UID:95190
ORGANIZER;CN="Kunstraum Norten" 
LOCATION:Kunstraum Norten, Im Brömm 9, 45896 Gelsenkirchen
SUMMARY:Norbert Thomas - Konkretes Spiel (Finnisage)
DESCRIPTION:Kann man rationale Konzepte durch Zufälle spielerisch aufbrechen? Die konstruktiv-konkreten Arbeiten von Norbert Thomas zeigen es eindrücklich. In großformatigen Acrylgemälden, Bildobjekten, Papiercollagen und Raumformen aus mehr als fünf Jahrzehnten führt der renommierte Essener Künstler sein „Konkretes Spiel“ vor Augen. Infos unter: 0209 / 3610 5303
CLASS:PUBLIC
DTSTART;TZID=Europe/Berlin:20260426T120000
DTSTAMP:20060812T125900Z
END:VEVENT
END:VCALENDAR