BEGIN:VCALENDAR
VERSION:2.0
PRODID:http://www.gelsenkirchen.de
METHOD:PUBLISH
BEGIN:VTIMEZONE
TZID:Europe/Berlin
BEGIN:DAYLIGHT
TZOFFSETFROM:+0100
TZOFFSETTO:+0200
DTSTART:19810329T020000
RRULE:FREQ=YEARLY;BYMONTH=3;BYDAY=-1SU
TZNAME:CEST
END:DAYLIGHT
BEGIN:STANDARD
TZOFFSETFROM:+0200
TZOFFSETTO:+0100
DTSTART:19961027T030000
RRULE:FREQ=YEARLY;BYMONTH=10;BYDAY=-1SU
TZNAME:CET
END:STANDARD
END:VTIMEZONE
BEGIN:VEVENT
UID:95189
ORGANIZER;CN="Aktion WEITBLICK" 
LOCATION:Evangelisches Gemeindehaus an der Nicolai-Kirche, Flöz Sonnenschein 60, 45886 Gelsenkirchen
SUMMARY:Bücherbörse
DESCRIPTION:Mit dem Erlös aus dem Verkauf gespendeter Bücher unterstützt die Aktion WEITBLICK seit 24 Jahren medica mondiale e.V. in ihrem weltweiten Kampf gegen Gewalt an Frauen und Kindern. Insgesamt konnten dank Ihnen seit 2002 rund 83.000,-€ der Menschenrechtsorganisation übergeben werden und damit zahlreiche Hilfsprojekte vor Ort ermöglicht werden.VerkaufWann:           Samstag, 18. April – Sonntag, 19. AprilSa 10-16 Uhr | So 11 – 16 UhrWo:                Evangelisches Gemeindehaus Flöz Sonnenschein 60, 45886 Gelsenkirchen Ückendorf (an der Nicolai-Kirche) Was:              Gut bis sehr gut erhaltene Bücher, Filme, CDs, LPs, DVDs (nur Original-Tonträger!), keine Lexika und keine losen Bücher – Kartons und Taschen schützen Ihre Spenden!SpendeWann:            Donnerstag, 16. April – Freitag, 17. April14 – 18 UhrWo:                im Evangelischen Gemeindehaus Flöz Sonnenschein 60, 45886 Gelsenkirchen-Ückendorf an der Nicolai-Kirche, Parkmöglichkeiten zum Ausladen sind vorhanden.Weitere Informationen unter:buecherboerse.kirchegelsenkirchen.de
CLASS:PUBLIC
DTSTART;TZID=Europe/Berlin:20260418T100000
DTEND;TZID=Europe/Berlin:20260419T160000
DTSTAMP:20060812T125900Z
END:VEVENT
END:VCALENDAR