BEGIN:VCALENDAR
VERSION:2.0
PRODID:http://www.gelsenkirchen.de
METHOD:PUBLISH
BEGIN:VTIMEZONE
TZID:Europe/Berlin
BEGIN:DAYLIGHT
TZOFFSETFROM:+0100
TZOFFSETTO:+0200
DTSTART:19810329T020000
RRULE:FREQ=YEARLY;BYMONTH=3;BYDAY=-1SU
TZNAME:CEST
END:DAYLIGHT
BEGIN:STANDARD
TZOFFSETFROM:+0200
TZOFFSETTO:+0100
DTSTART:19961027T030000
RRULE:FREQ=YEARLY;BYMONTH=10;BYDAY=-1SU
TZNAME:CET
END:STANDARD
END:VTIMEZONE
BEGIN:VEVENT
UID:95174
ORGANIZER;CN="VHS Gelsenkirchen" 
LOCATION:Bildungszentrum, Ebertstraße 19, 45879 Gelsenkirchen
SUMMARY:GEmeinsam online: Medienwissen für Familien – Smartphone und Schule
DESCRIPTION:Sind Smartphones in der Schule ein Lernmittel oder eine Ablenkung? Der Vortrag für Jugendliche von 14 bis 18 Jahren und deren Eltern zeigt Möglichkeiten auf, wie das Smartphone als Lernhilfe genutzt werden kann, aber auch, wann es zum geduldeten Werkzeug oder sogar Störfaktor wird.Dauer: 90 Minuten, entgeltfrei – Anmeldung erforderlich (Kursnummer 2619957)
CLASS:PUBLIC
DTSTART;TZID=Europe/Berlin:20260430T180000
DTEND;TZID=Europe/Berlin:20260430T193000
DTSTAMP:20060812T125900Z
END:VEVENT
END:VCALENDAR