BEGIN:VCALENDAR
VERSION:2.0
PRODID:http://www.gelsenkirchen.de
METHOD:PUBLISH
BEGIN:VTIMEZONE
TZID:Europe/Berlin
BEGIN:DAYLIGHT
TZOFFSETFROM:+0100
TZOFFSETTO:+0200
DTSTART:19810329T020000
RRULE:FREQ=YEARLY;BYMONTH=3;BYDAY=-1SU
TZNAME:CEST
END:DAYLIGHT
BEGIN:STANDARD
TZOFFSETFROM:+0200
TZOFFSETTO:+0100
DTSTART:19961027T030000
RRULE:FREQ=YEARLY;BYMONTH=10;BYDAY=-1SU
TZNAME:CET
END:STANDARD
END:VTIMEZONE
BEGIN:VEVENT
UID:95164
ORGANIZER;CN="GEjazzt e.V. gefördert von der Stadt Gelsenkirchen und der Volksbank Ruhr-Mitte" 
LOCATION:Consol Theater, Bismarckstraße 240, 45889 Gelsenkirchen
SUMMARY:Fay Claassen – Soulprint – GEjazzt auf CONSOL
DESCRIPTION:So charmant wie einfühlsam, so nachdenklich wie optimistisch präsentiert sich Fay Claassen im intimen Rahmen ihrer Band und festigt souverän ihren Status als eine der größten Jazzsängerinnen Europas. Ihr Album „Soulprint“ lädt dazu ein, die Sängerin auf ihrer Reise ins Innere zu begleiten.Einlass: 19:00 UhrInfo: 0209 9882282 
CLASS:PUBLIC
DTSTART;TZID=Europe/Berlin:20260425T200000
DTSTAMP:20060812T125900Z
END:VEVENT
END:VCALENDAR