BEGIN:VCALENDAR
VERSION:2.0
PRODID:http://www.gelsenkirchen.de
METHOD:PUBLISH
BEGIN:VTIMEZONE
TZID:Europe/Berlin
BEGIN:DAYLIGHT
TZOFFSETFROM:+0100
TZOFFSETTO:+0200
DTSTART:19810329T020000
RRULE:FREQ=YEARLY;BYMONTH=3;BYDAY=-1SU
TZNAME:CEST
END:DAYLIGHT
BEGIN:STANDARD
TZOFFSETFROM:+0200
TZOFFSETTO:+0100
DTSTART:19961027T030000
RRULE:FREQ=YEARLY;BYMONTH=10;BYDAY=-1SU
TZNAME:CET
END:STANDARD
END:VTIMEZONE
BEGIN:VEVENT
UID:95162
ORGANIZER;CN="emschertainment GmbH" :MAILTO:info@emschertainment.de
LOCATION:Heilig Kreuz-Kirche, Bochumer Straße 115, 45886 Gelsenkirchen
SUMMARY:NightWash Live – Live 2026
DESCRIPTION:NightWash bringt die frischeste Comedy angesagter Comedians und Newcomer, überraschende Showeinlagen gepaart mit dem allerbesten Publikum auf die Bühne.am 25.04.: Einlass: 18:00 Uhr - Beginn: 19:00 Uhram 26.04.: Einlass: 17:00 Uhr - Beginn: 18:00 UhrInfo: 0209 9541100
CLASS:PUBLIC
DTSTART;TZID=Europe/Berlin:20260425T190000
DTSTAMP:20060812T125900Z
END:VEVENT
END:VCALENDAR