BEGIN:VCALENDAR
VERSION:2.0
PRODID:http://www.gelsenkirchen.de
METHOD:PUBLISH
BEGIN:VTIMEZONE
TZID:Europe/Berlin
BEGIN:DAYLIGHT
TZOFFSETFROM:+0100
TZOFFSETTO:+0200
DTSTART:19810329T020000
RRULE:FREQ=YEARLY;BYMONTH=3;BYDAY=-1SU
TZNAME:CEST
END:DAYLIGHT
BEGIN:STANDARD
TZOFFSETFROM:+0200
TZOFFSETTO:+0100
DTSTART:19961027T030000
RRULE:FREQ=YEARLY;BYMONTH=10;BYDAY=-1SU
TZNAME:CET
END:STANDARD
END:VTIMEZONE
BEGIN:VEVENT
UID:95154
ORGANIZER;CN="Herbert Knorr & Thos Renneberg" 
LOCATION:Heilig Kreuz-Kirche, Bochumer Straße 115, 45886 Gelsenkirchen
SUMMARY:Die Bekloppten präsentieren: Der Jupp muss wech – oder die Emscherlandtransformation
DESCRIPTION:Eine absurde Posse mit gleich fünf Paaren aus drei Generationen. Vordergründig geht es um eine in die Jahre gekommene Ehe, um junge Leute und alte Liebschaften – man betrügt, hintergeht und versöhnt sich. Hintergründig geht es um falsche und richtige Identitäten in lebhaften Zeiten rasanter Transformationen.
CLASS:PUBLIC
DTSTART;TZID=Europe/Berlin:20260424T190000
DTSTAMP:20060812T125900Z
END:VEVENT
END:VCALENDAR