BEGIN:VCALENDAR
VERSION:2.0
PRODID:http://www.gelsenkirchen.de
METHOD:PUBLISH
BEGIN:VTIMEZONE
TZID:Europe/Berlin
BEGIN:DAYLIGHT
TZOFFSETFROM:+0100
TZOFFSETTO:+0200
DTSTART:19810329T020000
RRULE:FREQ=YEARLY;BYMONTH=3;BYDAY=-1SU
TZNAME:CEST
END:DAYLIGHT
BEGIN:STANDARD
TZOFFSETFROM:+0200
TZOFFSETTO:+0100
DTSTART:19961027T030000
RRULE:FREQ=YEARLY;BYMONTH=10;BYDAY=-1SU
TZNAME:CET
END:STANDARD
END:VTIMEZONE
BEGIN:VEVENT
UID:95049
ORGANIZER;CN="Generationennetz Gelsenkirchen e.V. in Koorperation mit der Stadt Gelsenkirchen" :MAILTO:julius.leberl@gelsenkirchen.de
LOCATION:Ernst-Käsemann-Platz, Rotthauser Markt 15, 45884 Gelsenkirchen
SUMMARY:Bienenfest in Rotthausen am Weltbienentag
DESCRIPTION:Am 20. Mai, dem Weltbienentag findet von 15 – 18 Uhr in Rotthausen auf dem Ernst-Käsemann-Platz ein Bienenfest statt.Imker stellen ihre Arbeit vor, es gibt Honigprodukte, Informationen zum Umwelt- und Bienenschutz, Bastelaktionen für Kinder, Bienen- und Frühlingsdekoration, eine Pflanzentauschbörse, u.v.m. Für das leibliche Wohl ist gesorgt. Ansprechpersonen:Sabine Pieniak &amp; Werner Backhaus (Nachbarschaftsstifter:innen)Telefon: 0209 9570183 (Anrufbeantworter)Mail: sabine.pieniak@web.de oder backhaus@nachbarschaftsstifter.de
CLASS:PUBLIC
DTSTART;TZID=Europe/Berlin:20260520T150000
DTEND;TZID=Europe/Berlin:20260520T180000
DTSTAMP:20060812T125900Z
END:VEVENT
END:VCALENDAR