BEGIN:VCALENDAR
VERSION:2.0
PRODID:http://www.gelsenkirchen.de
METHOD:PUBLISH
BEGIN:VTIMEZONE
TZID:Europe/Berlin
BEGIN:DAYLIGHT
TZOFFSETFROM:+0100
TZOFFSETTO:+0200
DTSTART:19810329T020000
RRULE:FREQ=YEARLY;BYMONTH=3;BYDAY=-1SU
TZNAME:CEST
END:DAYLIGHT
BEGIN:STANDARD
TZOFFSETFROM:+0200
TZOFFSETTO:+0100
DTSTART:19961027T030000
RRULE:FREQ=YEARLY;BYMONTH=10;BYDAY=-1SU
TZNAME:CET
END:STANDARD
END:VTIMEZONE
BEGIN:VEVENT
UID:95021
ORGANIZER;CN="Kommunales Kino (KoKi)" 
LOCATION:Schauburg Filmpalast, Horster Straße 6, 45897 Gelsenkirchen
SUMMARY:No other Choice
DESCRIPTION:Komödie/Drama von Park Chan-wook, Lee Kyoung-mi, Jahye Lee und Don McKellar, basierend auf dem Roman „The Ax“ von Donald E. Westlake mit: Lee Byung-hun, Son Ye-jin, Park Hee-soon, Lee Sung-min, Yeom Hye-ran, Cha Seung-won, Yoo Yeon-seok, Kim Woo-seung u. a.; ROK 2025, 139 Min.; FSK: ab 16 J. Man-su (Lee Byung-hun) hat sich mit viel Fleiß und harter Arbeit ein gutbürgerliches Leben geschaffen: Haus mit Garten, harmonische Ehe, talentierte Kinder und genug Zeit für das Bonsai-Hobby. Doch dann verliert er plötzlich den gut bezahlten Job in einer Papierfabrik, woraufhin er und seine Familie auf zahlreiche Annehmlichkeiten verzichten müssen. Je länger Man-su vergeblich Bewerbungen schreibt, desto näher rückt auch der Verlust des geliebten Hauses. Schließlich begreift er: Nicht der Mangel an Jobs ist das Problem, sondern die Menge an Mitbewerbern. Man-su greift zu drastischen Maßnahmen, um sich der Konkurrenz zu entledigen.Park Chan-wook (OLDBOY; DIE TASCHENDIEBIN; DIE FRAU IM NEBEL) zählt neben Bong Joon-ho (PARASITE) zu den großen Meistern kluger und kunstvoller Unterhaltung aus Südkorea. Mit NO OTHER CHOICE gelingt ihm ein bitterböses Filmvergnügen, das er visuell brillant und beißend komisch in Szene setzt. „Ein schonungsloser, formal virtuoser und zugleich ironisch-zynischer Blick auf die Zerbrechlichkeit von Identität und gesellschaftlichem Status im Angesicht ökonomischer Umbrüche.“Präsentiert in der KoKi-Reihe "Literatur im Film".
CLASS:PUBLIC
DTSTART;TZID=Europe/Berlin:20260421T201500
DTSTAMP:20060812T125900Z
END:VEVENT
END:VCALENDAR