BEGIN:VCALENDAR
VERSION:2.0
PRODID:http://www.gelsenkirchen.de
METHOD:PUBLISH
BEGIN:VTIMEZONE
TZID:Europe/Berlin
BEGIN:DAYLIGHT
TZOFFSETFROM:+0100
TZOFFSETTO:+0200
DTSTART:19810329T020000
RRULE:FREQ=YEARLY;BYMONTH=3;BYDAY=-1SU
TZNAME:CEST
END:DAYLIGHT
BEGIN:STANDARD
TZOFFSETFROM:+0200
TZOFFSETTO:+0100
DTSTART:19961027T030000
RRULE:FREQ=YEARLY;BYMONTH=10;BYDAY=-1SU
TZNAME:CET
END:STANDARD
END:VTIMEZONE
BEGIN:VEVENT
UID:94950
ORGANIZER;CN="Stadtteilbüro Rotthausen" :MAILTO:stb-rotthausen@gelsenkirchen.de
LOCATION:AWO Quartierszentrum , Schonnebecker Straße 25, 45884 Gelsenkirchen
SUMMARY:Gebietsbeiratssitzung Rotthausen
DESCRIPTION:Zweite Sitzung des Gebietsbeirats Rotthausen für 2026Am Donnerstag, den 11. Juni 2026 wird der Gebietsbeirat Rotthausen zur zweiten Sitzung in diesem Jahr zusammenkommen. Die Veranstaltung findet ab 18.30h statt. Im öffentlichen Teil der Sitzung wird über den aktuellen Stand der Stadterneuerungsprojekte informiert.Informationen zu den Themen Gebietsbeirat und Quartiersfonds sowie die Richtlinie zur Vergabe von Fördermitteln aus den Quartiersfonds Rotthausen finden Interessierte unter www.gelsenkirchen.de/rotthausen.Wer am öffentlichen Teil der Sitzung teilnehmen möchte, ist herzlich eingeladen, sich im Stadtteilbüro per Mail unter stb-rotthausen@gelsenkirchen.de oder telefonisch unter: 0209-1693916 anzumelden.
CLASS:PUBLIC
DTSTART;TZID=Europe/Berlin:20260611T183000
DTEND;TZID=Europe/Berlin:20260611T203000
DTSTAMP:20060812T125900Z
END:VEVENT
END:VCALENDAR