BEGIN:VCALENDAR
VERSION:2.0
PRODID:http://www.gelsenkirchen.de
METHOD:PUBLISH
BEGIN:VTIMEZONE
TZID:Europe/Berlin
BEGIN:DAYLIGHT
TZOFFSETFROM:+0100
TZOFFSETTO:+0200
DTSTART:19810329T020000
RRULE:FREQ=YEARLY;BYMONTH=3;BYDAY=-1SU
TZNAME:CEST
END:DAYLIGHT
BEGIN:STANDARD
TZOFFSETFROM:+0200
TZOFFSETTO:+0100
DTSTART:19961027T030000
RRULE:FREQ=YEARLY;BYMONTH=10;BYDAY=-1SU
TZNAME:CET
END:STANDARD
END:VTIMEZONE
BEGIN:VEVENT
UID:94949
ORGANIZER;CN="Gewerkschaft der Polizei Kreisgruppe Gelsenkirchen (GDP)" 
LOCATION:Gesamtschule Berger Feld, Adenauer-Allee 110, 45891 Gelsenkirchen
SUMMARY:Blaulichtlauf 2026
DESCRIPTION:Wir würden uns freuen Sie alle herzlich beim 13. Blaulichtlauf am 5. August 2026 begrüßen zu dürfen. Ob Sie mitlaufen oder an der Strecke stehen und anfeuern, wir freuen uns über alle, die unser Projekt unterstützen. Im Anschluss der Veranstaltung können Würstchen, Kaffee und Kuchen oder kühle Getränke auf dem Schulhof erworben werden. Der gesamte Erlös der eintrittsfreien Veranstaltung wird an zwei gemeinnützige Zwecke in Gelsenkirchen gespendet.Beginn vor Ort: 9:00 UhrStart Halbmarathon: 10:00 UhrStart 10 km 10:20 UhrStart 5 km 10:40 Uhr
CLASS:PUBLIC
DTSTART;TZID=Europe/Berlin:20260805T090000
DTSTAMP:20060812T125900Z
END:VEVENT
END:VCALENDAR