BEGIN:VCALENDAR
VERSION:2.0
PRODID:http://www.gelsenkirchen.de
METHOD:PUBLISH
BEGIN:VTIMEZONE
TZID:Europe/Berlin
BEGIN:DAYLIGHT
TZOFFSETFROM:+0100
TZOFFSETTO:+0200
DTSTART:19810329T020000
RRULE:FREQ=YEARLY;BYMONTH=3;BYDAY=-1SU
TZNAME:CEST
END:DAYLIGHT
BEGIN:STANDARD
TZOFFSETFROM:+0200
TZOFFSETTO:+0100
DTSTART:19961027T030000
RRULE:FREQ=YEARLY;BYMONTH=10;BYDAY=-1SU
TZNAME:CET
END:STANDARD
END:VTIMEZONE
BEGIN:VEVENT
UID:94948
ORGANIZER;CN="Laufszene Athletics gGmbH" 
LOCATION:Sportanlage Berger See "Offene Tür", Adenauerallee, 45894 Gelsenkirchen
SUMMARY:Der FirmenWanderTag in Gelsenkirchen
DESCRIPTION:Beim FirmenWanderTag wandern Kolleginnen und Kollegen zusammen, stärken den Teamgeist und genießen Bewegung an der frischen Luft. Wandert gemeinsam im Team rund 10 km von der Sportanlage „Offene Tür“ durch die Resser Mark und das Naturschutzgebiet Resser Wäldchen bis zu Steinmeister’s Biergarten – Oskar am Kanal. Dort erwartet euch euer wohlverdienter After Walk Chill out, der zum Ankommen, Austauschen und Verweilen einlädt.Start viertelstündlich zwischen 15:00 Uhr und 17:00 Uhr in Gruppen5 gute Gründe für den FirmenWanderTag:stärkt den Teamgeistunterstützt offenen Austauschfördert die Gesundheitreduziert Stress nachhaltigsteigert die Motivation
CLASS:PUBLIC
DTSTART;TZID=Europe/Berlin:20260518T150000
DTEND;TZID=Europe/Berlin:20260518T170000
DTSTAMP:20060812T125900Z
END:VEVENT
END:VCALENDAR