BEGIN:VCALENDAR
VERSION:2.0
PRODID:http://www.gelsenkirchen.de
METHOD:PUBLISH
BEGIN:VTIMEZONE
TZID:Europe/Berlin
BEGIN:DAYLIGHT
TZOFFSETFROM:+0100
TZOFFSETTO:+0200
DTSTART:19810329T020000
RRULE:FREQ=YEARLY;BYMONTH=3;BYDAY=-1SU
TZNAME:CEST
END:DAYLIGHT
BEGIN:STANDARD
TZOFFSETFROM:+0200
TZOFFSETTO:+0100
DTSTART:19961027T030000
RRULE:FREQ=YEARLY;BYMONTH=10;BYDAY=-1SU
TZNAME:CET
END:STANDARD
END:VTIMEZONE
BEGIN:VEVENT
UID:94947
ORGANIZER;CN="SJD - Die Falken / Unterbezirk Gelsenkirchen" 
LOCATION:Stadtteilpark Hassel, Zugang Marler Straße, Stadtteilpark Hassel, Zugang Marler Straße, - -
SUMMARY:Tag des Kindes
DESCRIPTION:Großes Familienfest mit tollem Bühnenprogramm, vielen Spiel- und Spaß-Attraktionen sowie Verpflegung zu kleinen Preisen.
CLASS:PUBLIC
DTSTART;TZID=Europe/Berlin:20260614T140000
DTEND;TZID=Europe/Berlin:20260614T180000
DTSTAMP:20060812T125900Z
END:VEVENT
END:VCALENDAR