BEGIN:VCALENDAR
VERSION:2.0
PRODID:http://www.gelsenkirchen.de
METHOD:PUBLISH
BEGIN:VTIMEZONE
TZID:Europe/Berlin
BEGIN:DAYLIGHT
TZOFFSETFROM:+0100
TZOFFSETTO:+0200
DTSTART:19810329T020000
RRULE:FREQ=YEARLY;BYMONTH=3;BYDAY=-1SU
TZNAME:CEST
END:DAYLIGHT
BEGIN:STANDARD
TZOFFSETFROM:+0200
TZOFFSETTO:+0100
DTSTART:19961027T030000
RRULE:FREQ=YEARLY;BYMONTH=10;BYDAY=-1SU
TZNAME:CET
END:STANDARD
END:VTIMEZONE
BEGIN:VEVENT
UID:94890
ORGANIZER;CN="Neue Synagoge, Jüdische Gemeinde Gelsenkirchen" 
LOCATION:Neue Synagoge Gelsenkirchen, Georgstraße 2, 45879 Gelsenkirchen
SUMMARY:Neue Synagoge Gelsenkirchen
DESCRIPTION:Auf dem Platz der 1938 von den Nationalsozialisten niedergebrannten Synagoge wurde im Februar 2007 die neue Synagoge eröffnet. Seitdem ist sie das Zentrum des jüdischen Lebens in Gelsenkirchen. Die neue Synagoge ist ein Ort des Gebetes, der Versammlung, des Lernens und der intensiven Begegnung. Die Führung ermöglicht nicht nur die Räumlichkeiten kennen zu lernen, sondern vermittelt auch einen Einblick in das Gemeindeleben sowie in die Geschichte des Judentums in Gelsenkirchen.Führungen durch die neue Synagoge in der Georgstraße 2, 45879 Gelsenkirchen:Thema: Das Laubhüttenfest – Sukkoth – Warum sollen Juden 8 Tage in einer Laubhütte leben?Mindestteilnehmerzahl: 3Maximale Teilnehmerzahl: 30 Ausschließlich bei der Stadt – und Touristinfo buchbar Ebertstr.11 45879 Gelsenkirchen Telefon: 0209-1693969 Email: touristinfo@gelsenkirchen.de
CLASS:PUBLIC
DTSTART;TZID=Europe/Berlin:20261007T170000
DTSTAMP:20060812T125900Z
END:VEVENT
END:VCALENDAR