BEGIN:VCALENDAR
VERSION:2.0
PRODID:http://www.gelsenkirchen.de
METHOD:PUBLISH
BEGIN:VTIMEZONE
TZID:Europe/Berlin
BEGIN:DAYLIGHT
TZOFFSETFROM:+0100
TZOFFSETTO:+0200
DTSTART:19810329T020000
RRULE:FREQ=YEARLY;BYMONTH=3;BYDAY=-1SU
TZNAME:CEST
END:DAYLIGHT
BEGIN:STANDARD
TZOFFSETFROM:+0200
TZOFFSETTO:+0100
DTSTART:19961027T030000
RRULE:FREQ=YEARLY;BYMONTH=10;BYDAY=-1SU
TZNAME:CET
END:STANDARD
END:VTIMEZONE
BEGIN:VEVENT
UID:94866
ORGANIZER;CN="Musiktheater im Revier Gelsenkirchen GmbH" 
LOCATION:Musiktheater im Revier (MiR) - Großes Haus, Kennedyplatz, 45881 Gelsenkirchen
SUMMARY:Hello Dolly
DESCRIPTION:Sie ist die Frau, nach der (nicht nur) jeder Junggeselle sucht – und sie ist zurück in Gelsenkirchen! Die Rede ist von Dolly Levi Gallagher. Egal ob als Heiratsvermittlerin, Gitarrenlehrerin oder Krampfadern-Reduziererin – die Witwe hat für alle Probleme die richtige Lösung zur Hand. Und bei ihrem neuesten Vorhaben soll Dolly Levi schließlich selbst zur Braut werden. Als Zukünftigen hat sie sich keinen Geringeren als den griesgrämigen Halbmillionär Horace Vandergelder auserkoren. Ob der sich darauf einlässt?Jerry Herman gehört zum Broadway wie die Freiheitsstatue zu New York. Mit „Hello, Dolly!“ beschwört der Komponist einen üppigen Broadway-Sound herauf und bringt die lebhaften Geräusche der Megacity aufs Tableau. Dabei schafft er es, seine Figuren aus dem eigenen Trott ausbrechen zu lassen. Konventionen und Erwartungshaltungen werden auf der Suche nach dem eigenen Glück überwunden. Nach einer ausverkauften Vorstellungsserie in der Spielzeit 23.24 bringt das MiR die mitreißende musikalische Komödie in der Regie von Carsten Kirchmeier erneut auf die Bühne. In „Hello, Dolly!“ geht es um Geld und Anerkennung, um größte Freiheit und finale Sicherheit, um die (Wieder-)Entdeckung von Lebenslust – letztendlich aber auch um das schönste Gefühl der Welt: die Liebe.Infos unter: 0209 / 4097 200
CLASS:PUBLIC
DTSTART;TZID=Europe/Berlin:20260426T180000
DTSTAMP:20060812T125900Z
END:VEVENT
END:VCALENDAR