BEGIN:VCALENDAR
VERSION:2.0
PRODID:http://www.gelsenkirchen.de
METHOD:PUBLISH
BEGIN:VTIMEZONE
TZID:Europe/Berlin
BEGIN:DAYLIGHT
TZOFFSETFROM:+0100
TZOFFSETTO:+0200
DTSTART:19810329T020000
RRULE:FREQ=YEARLY;BYMONTH=3;BYDAY=-1SU
TZNAME:CEST
END:DAYLIGHT
BEGIN:STANDARD
TZOFFSETFROM:+0200
TZOFFSETTO:+0100
DTSTART:19961027T030000
RRULE:FREQ=YEARLY;BYMONTH=10;BYDAY=-1SU
TZNAME:CET
END:STANDARD
END:VTIMEZONE
BEGIN:VEVENT
UID:94841
ORGANIZER;CN="Consol Theater" :MAILTO:kontakt@consoltheater.de
LOCATION:Kulturgebiet Consol, Bismarck-, Klara- und Consolstraße, 45889 Gelsenkirchen
SUMMARY:Tierisch Menschlich
DESCRIPTION:Vergnügliche Geschichten, gelesen von den Bucheckern, von falschen Schlangen und eitlen Gockeln, von dummen Kühen, schlauen Füchsen und armen Schweinen.
CLASS:PUBLIC
DTSTART;TZID=Europe/Berlin:20260328T160000
DTEND;TZID=Europe/Berlin:20260328T180000
DTSTAMP:20060812T125900Z
END:VEVENT
END:VCALENDAR