BEGIN:VCALENDAR
VERSION:2.0
PRODID:http://www.gelsenkirchen.de
METHOD:PUBLISH
BEGIN:VTIMEZONE
TZID:Europe/Berlin
BEGIN:DAYLIGHT
TZOFFSETFROM:+0100
TZOFFSETTO:+0200
DTSTART:19810329T020000
RRULE:FREQ=YEARLY;BYMONTH=3;BYDAY=-1SU
TZNAME:CEST
END:DAYLIGHT
BEGIN:STANDARD
TZOFFSETFROM:+0200
TZOFFSETTO:+0100
DTSTART:19961027T030000
RRULE:FREQ=YEARLY;BYMONTH=10;BYDAY=-1SU
TZNAME:CET
END:STANDARD
END:VTIMEZONE
BEGIN:VEVENT
UID:94833
ORGANIZER;CN="Musiktheater im Revier" :MAILTO:info@musiktheater-im-revier.de
LOCATION:Musiktheater im Revier (MiR) - Großes Haus, Kennedyplatz, 45881 Gelsenkirchen
SUMMARY:8. Sinfoniekonzert - Erzählungen
DESCRIPTION:Rocksong und Blockflöte? Aber ja! „A Tribute to Genesis“ nannte Fabrice Bollon sein Konzert „Your Voice Out of the Lamb“. Verschiedene Blockflötenarten und Live-Elektronik entfalten ein breites Spektrum, in dem Stefan Temminghs Virtuosität sich entfalten kann. Der Opus-Klassik-Gewinner zeigt mit lebendiger Bühnenpräsenz welche atemberaubenden Möglichkeiten in der Blockflöte stecken. Spannend und erzählerisch sind auch die beiden „Wasserwerke“ des Programms. In Dvořáks mächtiger sinfonischer Dichtung lässt er den Wassermann aus einer tschechischen Ballade auftauchen – ein packendes Miniaturdrama. Alexander von Zemlinskys „Die Seejungfrau“ zählt zu den prachtvollsten Partituren des Jugendstils. Die opulente Vertonung von Andersens Märchen über das traurige Wassergeschöpf wurde erst 1984 wiederentdeckt und hat sich seitdem als Publikumsliebling etabliert.Antonín Dvořák (1841–1904)„Der Wassermann“ op. 107Fabrice Bollon (*1965)„Your voice out of the lamb“Alexander von Zemlinsky (1871–1942)„Die Seejungfrau“
CLASS:PUBLIC
DTSTART;TZID=Europe/Berlin:20260420T193000
DTEND;TZID=Europe/Berlin:20260420T210000
DTSTAMP:20060812T125900Z
END:VEVENT
END:VCALENDAR