BEGIN:VCALENDAR
VERSION:2.0
PRODID:http://www.gelsenkirchen.de
METHOD:PUBLISH
BEGIN:VTIMEZONE
TZID:Europe/Berlin
BEGIN:DAYLIGHT
TZOFFSETFROM:+0100
TZOFFSETTO:+0200
DTSTART:19810329T020000
RRULE:FREQ=YEARLY;BYMONTH=3;BYDAY=-1SU
TZNAME:CEST
END:DAYLIGHT
BEGIN:STANDARD
TZOFFSETFROM:+0200
TZOFFSETTO:+0100
DTSTART:19961027T030000
RRULE:FREQ=YEARLY;BYMONTH=10;BYDAY=-1SU
TZNAME:CET
END:STANDARD
END:VTIMEZONE
BEGIN:VEVENT
UID:94830
ORGANIZER;CN="Verein für Orts- und Heimatkunde e.V. Gelsenkirchen Buer" 
LOCATION:Michaelshaus, Hochstr. 47, 45894 Gelsenkirchen
SUMMARY:Geschichtsstammtisch
DESCRIPTION:Der Verein für Orts- und Heimatkunde e.V., GE-Buer, bietet wieder besondere Veranstaltungsreihen an. „Dank des großen ehrenamtlichen Einsatzes können wir Geschichtsinteressierten dieses abwechslungsreiche Angebot machen“, sagt der Vereinsvorsitzende Georg Lecher.Mitmachen und mitreden ausdrücklich erwünscht, ist die Maxime beim Geschichtsstammtisch. Am Mittwoch, 11. März 2026, ab 17 Uhr kommen wir in der Klause des Michelshauses ins Gespräch.Teilnehmerinnen und Teilnehmer können gerne Geschichten und historische Fotos mitbringen.
CLASS:PUBLIC
DTSTART;TZID=Europe/Berlin:20260311T170000
DTSTAMP:20060812T125900Z
END:VEVENT
END:VCALENDAR