BEGIN:VCALENDAR
VERSION:2.0
PRODID:http://www.gelsenkirchen.de
METHOD:PUBLISH
BEGIN:VTIMEZONE
TZID:Europe/Berlin
BEGIN:DAYLIGHT
TZOFFSETFROM:+0100
TZOFFSETTO:+0200
DTSTART:19810329T020000
RRULE:FREQ=YEARLY;BYMONTH=3;BYDAY=-1SU
TZNAME:CEST
END:DAYLIGHT
BEGIN:STANDARD
TZOFFSETFROM:+0200
TZOFFSETTO:+0100
DTSTART:19961027T030000
RRULE:FREQ=YEARLY;BYMONTH=10;BYDAY=-1SU
TZNAME:CET
END:STANDARD
END:VTIMEZONE
BEGIN:VEVENT
UID:94829
ORGANIZER;CN="Stadtmarketing Gesellschaft Gelsenkirchen mbH" :MAILTO:info@stadtmarketing.de
LOCATION:Stadt Gelsenkirchen, Ebertstraße 11, 45875 Gelsenkirchen
SUMMARY:Sondertour „Urban Hiking – Die Wandertour durch Gelsenkirchen I“
DESCRIPTION:Entdecken Sie große und kleine Geheimnisse, spannende Fakten sowie unterhaltsame Anekdoten auf einer urbanen Wanderung vom Rathaus Buer bis zur Halde Rungenberg. Im ersten Teil der mehrstündigen Tour steht die Stadtentwicklung Buers im Mittelpunkt. Anschließend besuchen wir das Grünlabor im Biomassepark Hugo inklusive einer kleinen Exkursion. Danach geht es hinauf auf die Halde Rungenberg, wo wir zum Abschluss der Runde mit einem beeindruckenden Panorama über das Ruhrgebiet belohnt werden. Und weil urbanes Hiken hungrig macht, wartet der Foodtruck von Didi Schacht auf dem „Dach“ der Stadt. Hier genießen Sie nicht nur die Aussicht, sondern bekommen auch einen kleinen Happen zur Stärkung. Bitte denken Sie an festes Schuhwerk und wetterfeste Kleidung. Für diese Tour sollten Sie gut zu Fuß unterwegs sein. - inklusive einer geführten 5-stündigen Wandertour durch Gelsenkirchen- ein Snack und ein Getränk- ein kleines Souvenir
CLASS:PUBLIC
DTSTART;TZID=Europe/Berlin:20260530T120000
DTEND;TZID=Europe/Berlin:20260530T170000
DTSTAMP:20060812T125900Z
END:VEVENT
END:VCALENDAR