BEGIN:VCALENDAR
VERSION:2.0
PRODID:http://www.gelsenkirchen.de
METHOD:PUBLISH
BEGIN:VTIMEZONE
TZID:Europe/Berlin
BEGIN:DAYLIGHT
TZOFFSETFROM:+0100
TZOFFSETTO:+0200
DTSTART:19810329T020000
RRULE:FREQ=YEARLY;BYMONTH=3;BYDAY=-1SU
TZNAME:CEST
END:DAYLIGHT
BEGIN:STANDARD
TZOFFSETFROM:+0200
TZOFFSETTO:+0100
DTSTART:19961027T030000
RRULE:FREQ=YEARLY;BYMONTH=10;BYDAY=-1SU
TZNAME:CET
END:STANDARD
END:VTIMEZONE
BEGIN:VEVENT
UID:94809
ORGANIZER;CN="Stadtmarketing Gesellschaft Gelsenkirchen mbH" :MAILTO:info@stadtmarketing.de
LOCATION:Stadt Gelsenkirchen, Ebertstraße 11, 45875 Gelsenkirchen
SUMMARY:Sondertour „Backstage – hinter den Kulissen“
DESCRIPTION:Premiere in diesem Jahr! Ein exklusiver Blick hinter die Kulissen des Musiktheaters im Revier, der ZOOM Erlebniswelt und des Polizeipräsidiums in Buer. Eine besondere Tour zu drei spannenden Orten. An jedem dieser Stopps erwarten Sie außergewöhnliche Erlebnisse sowie interessante Führungen, die faszinierende Einblicke und neue Perspektiven bieten.Zwischendurch legen wir eine kurze Pause zum Essen ein, die für neue Energie sorgt. So verbindet diese Tour informative Momente mit Genuss – und macht das Backstage-Erlebnis rundum abwechslungsreich und unvergesslich.- inklusive einer geführten 6-stündigen Bustour mit einem exklusiven Reisebus- 3 Führungen in versteckten Orten- ein Snack und ein Getränk nach Wahl  Für diese Tour sollten Sie gut zu Fuß sein.
CLASS:PUBLIC
DTSTART;TZID=Europe/Berlin:20260523T110000
DTEND;TZID=Europe/Berlin:20260523T170000
DTSTAMP:20060812T125900Z
END:VEVENT
END:VCALENDAR