BEGIN:VCALENDAR
VERSION:2.0
PRODID:http://www.gelsenkirchen.de
METHOD:PUBLISH
BEGIN:VTIMEZONE
TZID:Europe/Berlin
BEGIN:DAYLIGHT
TZOFFSETFROM:+0100
TZOFFSETTO:+0200
DTSTART:19810329T020000
RRULE:FREQ=YEARLY;BYMONTH=3;BYDAY=-1SU
TZNAME:CEST
END:DAYLIGHT
BEGIN:STANDARD
TZOFFSETFROM:+0200
TZOFFSETTO:+0100
DTSTART:19961027T030000
RRULE:FREQ=YEARLY;BYMONTH=10;BYDAY=-1SU
TZNAME:CET
END:STANDARD
END:VTIMEZONE
BEGIN:VEVENT
UID:94672
ORGANIZER;CN="Insane Urban Cowboys" 
LOCATION:Bochumer Str. 102 - 156, Bochumer Straße 102 - 156, 45886 Gelsenkirchen
SUMMARY:KOMMSE ÜCKEN?!
DESCRIPTION:Bei der quartalsweise stattfindenden Nacht im Kreativ.Quartier Ückendorf bieten die teilnehmenden Locations immer „mehr als sonst“ an: zum Beispiel Theater in einer Kneipe oder Party in einem Leerstand.Programm 14.3.2026:18-20 Uhr: Mikroskopischer Warteraum Kunstausstellung mit medizinischer Malerei von Leonie Schön. Führungen um 18:30 Uhr und 19:30 Uhr - irgendDorf, Bochumer Str. 10818-22 Uhr: Bestand im Blick  Eine Ausstellung zum Wert bestehender Gebäude &amp; Diashow mit Bildern aus dem Ruhrgebiet. Dazu Drinks &amp; Sound - UmBauLabor, Bergmannstraße 2318–22 Uhr: Coffee &amp; Beats  Das Café Ütelier bietet euch bei Heißgetränken &amp; DJ-Sets von Home Grown Raps (Hip-Hop) eine Chillout-Station bevor die Nacht noch ganz wild wird - Café Ütelier, Bochumer Str. 11418–22 Uhr: Pop-up Ping Pong  Das Manifesta 16 Ruhr Team fordert euch zu einer Runde Ping Pong heraus und will dabei eure Ideen für mehr Miteinander in GE-Ückendorf erfahren. Die Getränke der Matchwinner gehen aufs „Haus“ - Freifläche vorm Bunker, neben Bochumer Str. 145 Ab 18 Uhr: Vintage-Vinyl &amp; Cocktails Northern Soul, Rhythm'n'Blues &amp; Rock'n'Roll auf 45er-Platten only! 50s &amp; 60s Underground-Dance-Tracks mit DJ Don &amp; DJ King Coleman Jr. - Djammeh Juices, Bochumer Str. 102 Ab 18 Uhr: All Hits, no Shits  Eure Hits, eure Party! DJ Kevin Steffen &amp; Dan Roxx spielen eure Musikwünsche per QR-Code. Bedinung: Banger only! - HIER IST NICHT DA, Bochumer Str. 13819 Uhr: Stadt als Film Videokonzert von Stefan Demming: Historische Stadtfilme werden live mit einem 4-Spur-Videosampler zu einer audiovisuellen Komposition. Es entsteht eine Dub-ähnliche Collage im Flux. Die Galerie ist bis 20:30 Uhr geöffnet - EinLaden Projektraum, Bochumer Str. 9619 Uhr: Fisch und Oldrik live Musikalische Wilderei und liederliche Umtriebe: Die legendären Fisch und Oldrik kehren mit vielen Instrumenten und noch mehr Songs nach Ückendorf zurück. „Liedermachermäßiger Punk“ trifft den Stil der beiden ganz gut - Trinkhalle am Flöz, Bochumer Str. 139Ab 19 Uhr: Malmø live - Best of Cover Songs  Mal leise, mal laut, mal Gänsehaut, mal Grinsen im Gesicht. Malmø ist kein nostalgisches Abspielen, sondern ein echtes Neu-Erleben - Eine gute Adresse, Bochumer Str. 100Ab 19 Uhr: Der Sound unserer Stadt Local Heroes an den Decks: Die DJs Tyoh, Actiondobbson und GoekGoekGoek gehören zu Gelsen wie das KOMMSE ÜCKEN. Und daher bringen sie auch genau den Sound mit, den diese Stadt nachts braucht. Kein Schnickschnack, nur ehrliche Beats - Rosamunde, Bochumer Str. 11720:30 Uhr: Live-Techno Experience  Jan Arlt spielt ein tanzbares Techno-Liveset. Das Set wird in Echtzeit komponiert und produziert. Sounds und Patterns werden an Drumcomputern und Synthesizern from scratch live eingespielt, geloopt, gestaltet und arrangiert - GeOrgel, Bochumer Str. 150
CLASS:PUBLIC
DTSTART;TZID=Europe/Berlin:20260613T180000
DTSTAMP:20060812T125900Z
END:VEVENT
END:VCALENDAR