BEGIN:VCALENDAR
VERSION:2.0
PRODID:http://www.gelsenkirchen.de
METHOD:PUBLISH
BEGIN:VTIMEZONE
TZID:Europe/Berlin
BEGIN:DAYLIGHT
TZOFFSETFROM:+0100
TZOFFSETTO:+0200
DTSTART:19810329T020000
RRULE:FREQ=YEARLY;BYMONTH=3;BYDAY=-1SU
TZNAME:CEST
END:DAYLIGHT
BEGIN:STANDARD
TZOFFSETFROM:+0200
TZOFFSETTO:+0100
DTSTART:19961027T030000
RRULE:FREQ=YEARLY;BYMONTH=10;BYDAY=-1SU
TZNAME:CET
END:STANDARD
END:VTIMEZONE
BEGIN:VEVENT
UID:94669
ORGANIZER;CN="Förderverein Schloß Horst e.V." :MAILTO:foerderv@gelsennet.de
LOCATION:Schloss Horst, Turfstraße 21, 45899 Gelsenkirchen
SUMMARY:Gaudium.2026
DESCRIPTION:Freuen Sie sich auf Ritterturniere, Mittelaltermarkt, Gaukler, Spielleute und Lagerleben.Öffnungszeiten:Samstag 11:00 - 22:00 UhrSonntag 11:00 - 19:00 Uhr
CLASS:PUBLIC
DTSTART;TZID=Europe/Berlin:20260620
DTEND;TZID=Europe/Berlin:20260623
DTSTAMP:20060812T125900Z
END:VEVENT
END:VCALENDAR