BEGIN:VCALENDAR
VERSION:2.0
PRODID:http://www.gelsenkirchen.de
METHOD:PUBLISH
BEGIN:VTIMEZONE
TZID:Europe/Berlin
BEGIN:DAYLIGHT
TZOFFSETFROM:+0100
TZOFFSETTO:+0200
DTSTART:19810329T020000
RRULE:FREQ=YEARLY;BYMONTH=3;BYDAY=-1SU
TZNAME:CEST
END:DAYLIGHT
BEGIN:STANDARD
TZOFFSETFROM:+0200
TZOFFSETTO:+0100
DTSTART:19961027T030000
RRULE:FREQ=YEARLY;BYMONTH=10;BYDAY=-1SU
TZNAME:CET
END:STANDARD
END:VTIMEZONE
BEGIN:VEVENT
UID:94658
ORGANIZER;CN="Infront B2RUN GmbH" 
LOCATION:Veltins-ARENA, Arenaring, 45891 Gelsenkirchen
SUMMARY:B2Run Gelsenkirchen 2026
DESCRIPTION:Erlebt den B2Run Gelsenkirchen am 01.09.2026 und startet gemeinsam mit eurem Unternehmen beim großen Firmenlauf der Region Gelsenkirchen! Die rund 5 km lange Strecke endet mit einem unvergesslichen Zieleinlauf in der VELTINS-Arena. Ob als Team mit Kolleg/-innen oder als Einzelstarter/-in - dieser Lauf ist das sportliche Highlight für Firmen und Organisationen aus Gelsenkirchen und Umgebung.Auch 2026 findet wieder vorab ein Kidslauf für Kinder von 8 bis 14 Jahren statt!
CLASS:PUBLIC
DTSTART;TZID=Europe/Berlin:20260901
DTEND;TZID=Europe/Berlin:20260903
DTSTAMP:20060812T125900Z
END:VEVENT
END:VCALENDAR