BEGIN:VCALENDAR
VERSION:2.0
PRODID:http://www.gelsenkirchen.de
METHOD:PUBLISH
BEGIN:VTIMEZONE
TZID:Europe/Berlin
BEGIN:DAYLIGHT
TZOFFSETFROM:+0100
TZOFFSETTO:+0200
DTSTART:19810329T020000
RRULE:FREQ=YEARLY;BYMONTH=3;BYDAY=-1SU
TZNAME:CEST
END:DAYLIGHT
BEGIN:STANDARD
TZOFFSETFROM:+0200
TZOFFSETTO:+0100
DTSTART:19961027T030000
RRULE:FREQ=YEARLY;BYMONTH=10;BYDAY=-1SU
TZNAME:CET
END:STANDARD
END:VTIMEZONE
BEGIN:VEVENT
UID:94654
ORGANIZER;CN="Melange - Literarische Gesellschaft zur Förderung der Kaffeehauskultur e.V. in Kooperation mit der Stadtbibliothek Gelsenkirchen und dem KBZ Schloss Horst" :MAILTO:info@melange-im-netz.de
LOCATION:KBZ Schloss Horst, Turfstr. 21, 45899 Gelsenkirchen
SUMMARY:Sherlock Holmes. Murder & Moor
DESCRIPTION:Live-Hörspiel mit Stefan KeimDer monströse Hund von Baskerville mordet im Moor. Meisterdetektiv Sherlock Holmes und sein treuer Begleiter Dr. Watson begeben sich auf gefährliche Spurensuche. Verwickelt sind die Fälle, fast perfekt die Verbrechen, doch mit scharfem Verstand und genauer Beobachtung löst Holmes auch die verzwicktesten Fälle.Sehr frei nach Arthur Conan Doyle unternimmt der Kulturjournalist und Schauspieler Stefan Keim eine Reise ins Herz der fröhlichen Finsternis. Zwischen feinem Grusel und absurdem Humor bewegt sich das Live-Hörspiel, bei dem sich der Rezitator mit seinem Keyboard selbst begleitet. Eine junge Frau wird zur Millionenerbin, aber finstere Gestalten sind hinter ihrem Reichtum her. Ein Einbeiniger flößt seinen Opfern panische Angst ein, vergiftete Dornen sirren durch die Luft. Holmes bietet sein ganzes Können auf, doch der Mörder scheint ihm diesmal durch die Lappen zu gehen. Oder verbirgt sich hinter dem Mann mit dem Holzbein ein weitaus schrecklicheres Geheimnis?Auch das skurrile Privatleben der beiden Detektive gerät ins Blickfeld. Die Männer-WG in der Baker Street bringt durchaus Konflikte hervor, zum Beispiel wenn Holmes sich gelangweilt in den Kokainrausch flüchtet und Dr. Watson sich plötzlich und unerwartet in eine Klientin verliebt.Mit hintergründiger Ironie und britischem Understatement bringt Stefan Keim den größten Detektiv der Welt wieder zum Leben. ""Murder &amp; Moor"" bietet Spaß und Spannung und ist eine herzblutvolle Hommage an Sherlock Holmes und Dr. Watson.""Es ist eine wahre Freude, ihm zuzuhören! Stefan Keim produziert mit seinem Keyboard allerlei Geräusche und Melodien. Dazu spricht er verschiedene Rollen in ganz eigenen Stimmfärbungen - und das mit einem Volumen, das den überraschten Gästen auch mal einen Schrecken einjagt. Ihm gelang es, sowohl mit seiner temporeichen Erzählung als auch mit seiner starken Bühnenpräsenz alle Zuhörer in seinen Bann zu ziehen"" (Ruhrnachrichten, Dortmund).Stefan Keim ist Autor, Journalist, Moderator und Schauspieler. Seine kabarettistischen Auftritte führten ihn zu über hundert verschiedenen Kleinkunst-Bühnen im gesamten Bundesgebiet.
CLASS:PUBLIC
DTSTART;TZID=Europe/Berlin:20260401T190000
DTSTAMP:20060812T125900Z
END:VEVENT
END:VCALENDAR