BEGIN:VCALENDAR
VERSION:2.0
PRODID:http://www.gelsenkirchen.de
METHOD:PUBLISH
BEGIN:VTIMEZONE
TZID:Europe/Berlin
BEGIN:DAYLIGHT
TZOFFSETFROM:+0100
TZOFFSETTO:+0200
DTSTART:19810329T020000
RRULE:FREQ=YEARLY;BYMONTH=3;BYDAY=-1SU
TZNAME:CEST
END:DAYLIGHT
BEGIN:STANDARD
TZOFFSETFROM:+0200
TZOFFSETTO:+0100
DTSTART:19961027T030000
RRULE:FREQ=YEARLY;BYMONTH=10;BYDAY=-1SU
TZNAME:CET
END:STANDARD
END:VTIMEZONE
BEGIN:VEVENT
UID:94635
ORGANIZER;CN="Referat 47 – Zuwanderung und Integration/ Kommunales Integrationszentrum" 
LOCATION:Kulturraum „die flora“, Florastraße 26, 45879 Gelsenkirchen
SUMMARY:Stolpersteine
DESCRIPTION:Der Dokumentarfilm „Stolpersteine“ des Filmregisseurs Şenol Güngör zeigt Szenen, in denen die Stolpersteine in den Kommunen des Ruhrgebietes verlegt werden und lässt Menschen auch aus Gelsenkirchen Stellung dazu beziehen. Immer wieder steht Gunter Demnig, Konzeptkünstler und Erfinder der Stolpersteine, im Zentrum des Films. Der Film thematisiert die öffentliche Diskussion rund um das Thema und zeigt den Umgang mit jüdischen Menschen, die von den Nationalsozialisten ermordet wurden.Nach der Vorstellung gibt es die Möglichkeit, sich über Erfahrungen auszutauschen und miteinander ins Gespräch zu kommen.Über den Künstler:Senol Güngör lebt seit 1979 in Deutschland. Geboren ist er 1963 in Çorum, im türkischen Schwarzmeergebiet. Seit über 15 Jahren lebt er in Bochum-Wattenscheid. 2018 beginnt er Filmprojekte zu machen. 2023 schließt er eine Weiterbildung als Theaterpädagoge ab und widmet seine ganze Zeit der künstlerischen Arbeit.Mit dem Kurzfilm „Solingen 1993 – 25 Jahre danach“ gewinnt Senol Güngör als Autor und Produzent gemeinsam mit Regisseur Ömer Pekyürek den „Deutschen Generationen Filmpreis 2019“.
CLASS:PUBLIC
DTSTART;TZID=Europe/Berlin:20260326T180000
DTSTAMP:20060812T125900Z
END:VEVENT
END:VCALENDAR