BEGIN:VCALENDAR
VERSION:2.0
PRODID:http://www.gelsenkirchen.de
METHOD:PUBLISH
BEGIN:VTIMEZONE
TZID:Europe/Berlin
BEGIN:DAYLIGHT
TZOFFSETFROM:+0100
TZOFFSETTO:+0200
DTSTART:19810329T020000
RRULE:FREQ=YEARLY;BYMONTH=3;BYDAY=-1SU
TZNAME:CEST
END:DAYLIGHT
BEGIN:STANDARD
TZOFFSETFROM:+0200
TZOFFSETTO:+0100
DTSTART:19961027T030000
RRULE:FREQ=YEARLY;BYMONTH=10;BYDAY=-1SU
TZNAME:CET
END:STANDARD
END:VTIMEZONE
BEGIN:VEVENT
UID:94534
ORGANIZER;CN="XLETIX GmbH (vormals: KrassFit)" 
LOCATION:Trabrennbahn, Nienhausenstraße 42, 45883 Gelsenkirchen
SUMMARY:XLETIX Kids GELSENKIRCHEN
DESCRIPTION:XLETIX Kids ist ein Hindernislauf für Familien mit Kindern zwischen 5 – 15 Jahren. Pro Kind können maximal zwei Erwachsene mitlaufen, während eine erwachsene Begleitperson bis zu drei Kinder begleiten darf.Gemeinsam geht es durch Schlamm und Wasser, es wird geklettert und gekrabbelt und vor allem wird viel gelacht, denn der Spaß steht immer im Vordergrund! Unsere Events sorgen in zwölf Städten in Deutschland und der Schweiz für einen unvergesslichen Familientag.
CLASS:PUBLIC
DTSTART;TZID=Europe/Berlin:20260531
DTEND;TZID=Europe/Berlin:20260602
DTSTAMP:20060812T125900Z
END:VEVENT
END:VCALENDAR