BEGIN:VCALENDAR
VERSION:2.0
PRODID:http://www.gelsenkirchen.de
METHOD:PUBLISH
BEGIN:VTIMEZONE
TZID:Europe/Berlin
BEGIN:DAYLIGHT
TZOFFSETFROM:+0100
TZOFFSETTO:+0200
DTSTART:19810329T020000
RRULE:FREQ=YEARLY;BYMONTH=3;BYDAY=-1SU
TZNAME:CEST
END:DAYLIGHT
BEGIN:STANDARD
TZOFFSETFROM:+0200
TZOFFSETTO:+0100
DTSTART:19961027T030000
RRULE:FREQ=YEARLY;BYMONTH=10;BYDAY=-1SU
TZNAME:CET
END:STANDARD
END:VTIMEZONE
BEGIN:VEVENT
UID:94533
ORGANIZER;CN="XLETIX GmbH (vormals: KrassFit)" 
LOCATION:Trabrennbahn, Nienhausenstraße 42, 45883 Gelsenkirchen
SUMMARY:schauinsland Muddy Angel Run GELSENKIRCHEN
DESCRIPTION:Der schauinsland Muddy Angel Run ist Europas #1 Schlammlauf für Frauen aller Fitnesslevel. Die Laufstrecke bei diesem Frauenlauf ist ca. 5 km lang und ab 2026 NEU mit 18 spaßigen und schlammigen Team-Hindernissen.Meistere gemeinsam mit deinen Freundinnen oder Kolleginnen eine neue Herausforderung und beweise Mut, Willenskraft und Teamgeist.
CLASS:PUBLIC
DTSTART;TZID=Europe/Berlin:20260530
DTEND;TZID=Europe/Berlin:20260601
DTSTAMP:20060812T125900Z
END:VEVENT
END:VCALENDAR